BEGIN:VCALENDAR
VERSION:2.0
PRODID:-//ČESKÁ MANAŽERSKÁ ASOCIACE - ECPv6.15.15//NONSGML v1.0//EN
CALSCALE:GREGORIAN
METHOD:PUBLISH
X-WR-CALNAME:ČESKÁ MANAŽERSKÁ ASOCIACE
X-ORIGINAL-URL:https://www.cma.cz
X-WR-CALDESC:Akce na ČESKÁ MANAŽERSKÁ ASOCIACE
REFRESH-INTERVAL;VALUE=DURATION:PT1H
X-Robots-Tag:noindex
X-PUBLISHED-TTL:PT1H
BEGIN:VTIMEZONE
TZID:Europe/Prague
BEGIN:DAYLIGHT
TZOFFSETFROM:+0100
TZOFFSETTO:+0200
TZNAME:CEST
DTSTART:20210328T010000
END:DAYLIGHT
BEGIN:STANDARD
TZOFFSETFROM:+0200
TZOFFSETTO:+0100
TZNAME:CET
DTSTART:20211031T010000
END:STANDARD
BEGIN:DAYLIGHT
TZOFFSETFROM:+0100
TZOFFSETTO:+0200
TZNAME:CEST
DTSTART:20220327T010000
END:DAYLIGHT
BEGIN:STANDARD
TZOFFSETFROM:+0200
TZOFFSETTO:+0100
TZNAME:CET
DTSTART:20221030T010000
END:STANDARD
BEGIN:DAYLIGHT
TZOFFSETFROM:+0100
TZOFFSETTO:+0200
TZNAME:CEST
DTSTART:20230326T010000
END:DAYLIGHT
BEGIN:STANDARD
TZOFFSETFROM:+0200
TZOFFSETTO:+0100
TZNAME:CET
DTSTART:20231029T010000
END:STANDARD
END:VTIMEZONE
BEGIN:VEVENT
DTSTART;TZID=Europe/Prague:20220416T080000
DTEND;TZID=Europe/Prague:20220416T170000
DTSTAMP:20260423T123409
CREATED:20220419T201911Z
LAST-MODIFIED:20241008T202122Z
UID:23408-1650096000-1650128400@www.cma.cz
SUMMARY:Studio ČMA: Prezidentský speciál s Markem Hilšerem
DESCRIPTION:Hostem prezidentského speciálu byl tentokrát senátor Marek Hilšer. Tento původně český lékař\, vysokoškolský pedagog\, vědec a občanský aktivista nechystá svou první kandidaturu. Již v roce 2018 se v prvním kole prezidentské volby umístil na 5. místě se ziskem 454 949 hlasů (8\,83 %). Následně v říjnu 2018 se stal senátorem za obvod č. 26 – Praha 2. Na jeho pohled na současnou situaci\, postoje občanů i očekávané postoje vládních špiček\, stejně jako na osobní názory se bude ptát Vadim Petrov.
URL:https://www.cma.cz/akce/studio-cma-prezidentsky-special-s-markem-hilserem/
LOCATION:Online
CATEGORIES:Studio ČMA
ATTACH;FMTTYPE=image/jpeg:https://www.cma.cz/wp-content/uploads/2022/04/studio-cma-shiler-button.jpg
END:VEVENT
END:VCALENDAR