BEGIN:VCALENDAR
VERSION:2.0
PRODID:-//ČESKÁ MANAŽERSKÁ ASOCIACE - ECPv6.15.15//NONSGML v1.0//EN
CALSCALE:GREGORIAN
METHOD:PUBLISH
X-WR-CALNAME:ČESKÁ MANAŽERSKÁ ASOCIACE
X-ORIGINAL-URL:https://www.cma.cz
X-WR-CALDESC:Akce na ČESKÁ MANAŽERSKÁ ASOCIACE
REFRESH-INTERVAL;VALUE=DURATION:PT1H
X-Robots-Tag:noindex
X-PUBLISHED-TTL:PT1H
BEGIN:VTIMEZONE
TZID:Europe/Prague
BEGIN:DAYLIGHT
TZOFFSETFROM:+0100
TZOFFSETTO:+0200
TZNAME:CEST
DTSTART:20210328T010000
END:DAYLIGHT
BEGIN:STANDARD
TZOFFSETFROM:+0200
TZOFFSETTO:+0100
TZNAME:CET
DTSTART:20211031T010000
END:STANDARD
BEGIN:DAYLIGHT
TZOFFSETFROM:+0100
TZOFFSETTO:+0200
TZNAME:CEST
DTSTART:20220327T010000
END:DAYLIGHT
BEGIN:STANDARD
TZOFFSETFROM:+0200
TZOFFSETTO:+0100
TZNAME:CET
DTSTART:20221030T010000
END:STANDARD
BEGIN:DAYLIGHT
TZOFFSETFROM:+0100
TZOFFSETTO:+0200
TZNAME:CEST
DTSTART:20230326T010000
END:DAYLIGHT
BEGIN:STANDARD
TZOFFSETFROM:+0200
TZOFFSETTO:+0100
TZNAME:CET
DTSTART:20231029T010000
END:STANDARD
END:VTIMEZONE
BEGIN:VEVENT
DTSTART;TZID=Europe/Prague:20220413T080000
DTEND;TZID=Europe/Prague:20220413T170000
DTSTAMP:20260421T051104
CREATED:20220413T202140Z
LAST-MODIFIED:20241008T202539Z
UID:23411-1649836800-1649869200@www.cma.cz
SUMMARY:Zjistěte jazykovou úroveň Vašeho týmu: zaměstnanců v práci\, či žáků a studentů
DESCRIPTION:SiMyCo Certified Assessment Centre® zjistí jazykovou úroveň Vašeho týmu přímo u Vás ve firmě.  \nVyužijte jazykových programů zakončených zkouškou a certifikátem s dosaženou úrovní jazykových znalostí a řečových dovedností či samostatnou zkoušku zakončenou též certifikátem. Více zWede… \n\n\n\n\nJazykové úrovně\n\n\n\n\nSpolečný evropský referenční rámec definuje 6 jazykových úrovní\, vytvořených Radou Evropy. \nPoskytuje objektivní kritéria pro určení jazykové způsobilosti a usnadňuje tím uznávání a srovnání kvalifikačních osvědčení získaných v různých studijních kontextech. \n\n\n\n\nDomluvte si řešení na míru a zlepšete svůj business!Domluvte si řešení na míru a zlepšete svůj business!Navštivte web SiMyCoNavštivte web SiMyCo
URL:https://www.cma.cz/akce/zjistete-jazykovou-uroven-vaseho-tymu-zamestnancu-v-praci-ci-zaku-a-studentu/
LOCATION:Online
CATEGORIES:Školení
ATTACH;FMTTYPE=image/png:https://www.cma.cz/wp-content/uploads/2022/04/simco-jazykove-kurzy.png
END:VEVENT
END:VCALENDAR