BEGIN:VCALENDAR
VERSION:2.0
PRODID:-//ČESKÁ MANAŽERSKÁ ASOCIACE - ECPv6.15.15//NONSGML v1.0//EN
CALSCALE:GREGORIAN
METHOD:PUBLISH
X-ORIGINAL-URL:https://www.cma.cz
X-WR-CALDESC:Akce na ČESKÁ MANAŽERSKÁ ASOCIACE
REFRESH-INTERVAL;VALUE=DURATION:PT1H
X-Robots-Tag:noindex
X-PUBLISHED-TTL:PT1H
BEGIN:VTIMEZONE
TZID:Europe/Prague
BEGIN:DAYLIGHT
TZOFFSETFROM:+0100
TZOFFSETTO:+0200
TZNAME:CEST
DTSTART:20210328T010000
END:DAYLIGHT
BEGIN:STANDARD
TZOFFSETFROM:+0200
TZOFFSETTO:+0100
TZNAME:CET
DTSTART:20211031T010000
END:STANDARD
BEGIN:DAYLIGHT
TZOFFSETFROM:+0100
TZOFFSETTO:+0200
TZNAME:CEST
DTSTART:20220327T010000
END:DAYLIGHT
BEGIN:STANDARD
TZOFFSETFROM:+0200
TZOFFSETTO:+0100
TZNAME:CET
DTSTART:20221030T010000
END:STANDARD
BEGIN:DAYLIGHT
TZOFFSETFROM:+0100
TZOFFSETTO:+0200
TZNAME:CEST
DTSTART:20230326T010000
END:DAYLIGHT
BEGIN:STANDARD
TZOFFSETFROM:+0200
TZOFFSETTO:+0100
TZNAME:CET
DTSTART:20231029T010000
END:STANDARD
END:VTIMEZONE
BEGIN:VEVENT
DTSTART;TZID=Europe/Prague:20220407T170000
DTEND;TZID=Europe/Prague:20220407T170000
DTSTAMP:20260421T021022
CREATED:20241008T203720Z
LAST-MODIFIED:20241008T203720Z
UID:23422-1649350800-1649350800@www.cma.cz
SUMMARY:První pomoc s MUDr. Evou Smržovou
DESCRIPTION:Pozvání na klubové setkání na téma První pomoc s MUDr. Evou Smržovou\nMUDr. Eva Smržová je lékařka se specializovanou způsobilostí v oborech anesteziologie a resuscitace a urgentní medicína. Je dlouholetou lékařkou letecké záchranné služby (Ústí nad Labem\, Praha). Působila na Ministerstvu zdravotnictví v odboru  zdravotní péče\, kde se významně podílela na nastavení funkčního systému financování letecké záchranné služby v ČR. \nNa klubovém setkání se seznámíme nejen s osobním příběhem MUDr. Smržové\, ale i se zásadami 1. pomoci\, z nichž některé kroky vyzkoušíme i samy na sobě. \nPatronkou setkání je členka Klubu manažerek Ing. Helena Rögnerová\, náměstkyně ministra zdravotnictví ČR. \nPoděkování patří též člence Klubu manažerek Mgr. Jitce Chizolla\, generální ředitelce pojišťovny D.A.S. za možnost uspořádání klubové akce v jejích prostorách. \nNa klubové setkání se těší Lenka Tomešová \nÚčast potvrďte do 4.4.2022
URL:https://www.cma.cz/akce/prvni-pomoc-s-mudr-evou-smrzovou/
LOCATION:pojišťovna DAS\, BB Centrum\, budova Beta\, Vyskočilova 1481/4\, Praha 4 - Michle
CATEGORIES:Setkání
ATTACH;FMTTYPE=image/png:https://www.cma.cz/wp-content/uploads/2022/03/prvni-pomoc.png
END:VEVENT
BEGIN:VEVENT
DTSTART;TZID=Europe/Prague:20220407T150000
DTEND;TZID=Europe/Prague:20220407T170000
DTSTAMP:20260421T021022
CREATED:20220310T213748Z
LAST-MODIFIED:20241008T203913Z
UID:23425-1649343600-1649350800@www.cma.cz
SUMMARY:Finanční a psychologická podpora firem v současné turbulentní době
DESCRIPTION:Česká manažerská asociace a Elite klub Praha Vás srdečně zvou na 4. setkání na téma\n„Finanční a psychologická podpora firem v současné turbulentní době“ \n\nDotace versus finanční nástroje\nPráce se zaměstnanci – jak pomoci zvládat strach a obavy\n\nNa každé téma bude vyhrazeno 45 – 60 min. při vzájemném sdílení zkušeností a různých metod. \nÚčast jen pro pozvané. \n  \nKrátké představení: \nJiří Jirásek\nPředseda představenstva NRB \nVystudoval ekonomickou fakultu Vysoké školy zemědělské v Praze. Vzdělání si rozšířil postgraduálním studiem Buckinghamshire College of Brunel University ve Velké Británii a Southwestern Graduate School of Banking\, Southern Methodist University v USA. \nDo Českomoravské záruční a rozvojové banky\, a.s. (od IX/2021 Národní rozvojová banka\, a.s.)\, nastoupil v roce 1995 na pozici ředitele odboru finančních služeb. Již v roce 1995 se stal členem představenstva banky a vrchním ředitelem úseku finančních služeb a později úseku řízení obchodu. Na této pozici byl odpovědný za činnost obchodníka s cennými papíry\, řízení pobočkové sítě a distribuci produktů. V listopadu 2014 se stal členem pracovní skupiny pro rozšíření spolupráce Evropské investiční banky\, Evropského investičního fondu a národních rozvojových bank zemí EU. Spolupracoval na přípravě finančních nástrojů v Operačním programu Podnikání a inovace pro konkurenceschopnost v programovém období 2014 – 2020.\nOd 1. 1. 2016 zastává pozici předsedy představenstva Národní rozvojové banky\, a.s.
URL:https://www.cma.cz/akce/financni-a-psychologicka-podpora-firem-v-soucasne-turbulentni-dobe/
LOCATION:hotel Le Palais Art Hotel
CATEGORIES:Setkání
ATTACH;FMTTYPE=image/jpeg:https://www.cma.cz/wp-content/uploads/2022/03/hotel-le-palais.jpg
END:VEVENT
BEGIN:VEVENT
DTSTART;TZID=Europe/Prague:20220322T170000
DTEND;TZID=Europe/Prague:20220322T170000
DTSTAMP:20260421T021022
CREATED:20220228T213935Z
LAST-MODIFIED:20241008T204100Z
UID:23428-1647968400-1647968400@www.cma.cz
SUMMARY:Setkání podnikatelek a manažerek k vítání jara
DESCRIPTION:Setkání podnikatelek a manažerek se koná ve středu 2. břena 2022 od 17:00 ve vyhlídkovém Bohemia restaurant. \nSvou účast potvrďte do 22.2.2022 na e-mail: lenkatomes@seznam.cz \nTOP HOTEL Praha\, Blažimská 1781/4\, Praha 4
URL:https://www.cma.cz/akce/setkani-podnikatelek-a-manazerek-k-vitani-jara/
LOCATION:Restaurant Bohemia\, TOP Hotel Praha\, Restaurant Bohemia\, TOP Hotel Praha
CATEGORIES:Setkání
ATTACH;FMTTYPE=image/jpeg:https://www.cma.cz/wp-content/uploads/2022/02/jaro.jpg
END:VEVENT
BEGIN:VEVENT
DTSTART;TZID=Europe/Prague:20220316T143000
DTEND;TZID=Europe/Prague:20220316T143000
DTSTAMP:20260421T021022
CREATED:20220223T214111Z
LAST-MODIFIED:20241008T204405Z
UID:23432-1647441000-1647441000@www.cma.cz
SUMMARY:Setkání finalistů soutěže MANAŽER ROKU s primátorkou města Brna
DESCRIPTION:Primátorka města Brna JUDr. Markéta Vaňková ve spolupráci s Českou manažerskou asociací a jejím Regionálním klubem Morava zvou finalisty soutěže MANAŽER ROKU a další jihomoravské podnikatele na společné inspirativní setkání\, které se uskuteční ve středu 16. 3. 2022 od 14.30 hodin v nově zrekonstruovaném sále Rady města Brna\, Dominikánské náměstí\, Brno. \n\n\nProgram\n\n\n14:10 – 14:30 – Registrace účastníků\n14:30 – 15:30 – Oficiální část \n\nindividuální představení finalistů soutěže MANAŽER ROKU pocházejících z Jihomoravského kraje za posledních 5 let a dalších významných manažerů z tohoto regionu\nslovo primátorky JUDr. Markéty Vaňkové\ndiskuse na téma „Kam kráčí Brno“ a „Jak zvýšit přidanou hodnotu regionu“\n\n\n\n\n\n\n\nPořadatel: Regionální klub Morava
URL:https://www.cma.cz/akce/setkani-finalistu-souteze-manazer-roku-s-primatorkou-mesta-brna/
LOCATION:Sál Rady města Brna\, Dominikánské náměstí\, Brno
CATEGORIES:ČMA Regionální klub Morava,Kluby,Setkání
ATTACH;FMTTYPE=image/jpeg:https://www.cma.cz/wp-content/uploads/2022/02/zrekonstruovany_sal_rady_mesta_brno.jpg
END:VEVENT
BEGIN:VEVENT
DTSTART;TZID=Europe/Prague:20220223T140000
DTEND;TZID=Europe/Prague:20220223T180000
DTSTAMP:20260421T021022
CREATED:20220223T214846Z
LAST-MODIFIED:20241008T205051Z
UID:23437-1645624800-1645639200@www.cma.cz
SUMMARY:Setkání v Nemocnici Havířov s vítězem MANAŽERA ROKU 2020 Norbertem Schellongem
DESCRIPTION: 
URL:https://www.cma.cz/akce/setkani-v-nemocnici-havirov-s-vitezem-manazera-roku-2020-norbertem-schellongem/
LOCATION:Nemocnice Havířov\, Dělnická 1132/24\, Havířov
CATEGORIES:Elite Klub Moravskoslezského kraje,Kluby,Setkání
ATTACH;FMTTYPE=image/jpeg:https://www.cma.cz/wp-content/uploads/2022/02/bez-.jpg
END:VEVENT
END:VCALENDAR