BEGIN:VCALENDAR
VERSION:2.0
PRODID:-//ČESKÁ MANAŽERSKÁ ASOCIACE - ECPv6.15.15//NONSGML v1.0//EN
CALSCALE:GREGORIAN
METHOD:PUBLISH
X-ORIGINAL-URL:https://www.cma.cz
X-WR-CALDESC:Akce na ČESKÁ MANAŽERSKÁ ASOCIACE
REFRESH-INTERVAL;VALUE=DURATION:PT1H
X-Robots-Tag:noindex
X-PUBLISHED-TTL:PT1H
BEGIN:VTIMEZONE
TZID:Europe/Prague
BEGIN:DAYLIGHT
TZOFFSETFROM:+0100
TZOFFSETTO:+0200
TZNAME:CEST
DTSTART:20250330T010000
END:DAYLIGHT
BEGIN:STANDARD
TZOFFSETFROM:+0200
TZOFFSETTO:+0100
TZNAME:CET
DTSTART:20251026T010000
END:STANDARD
BEGIN:DAYLIGHT
TZOFFSETFROM:+0100
TZOFFSETTO:+0200
TZNAME:CEST
DTSTART:20260329T010000
END:DAYLIGHT
BEGIN:STANDARD
TZOFFSETFROM:+0200
TZOFFSETTO:+0100
TZNAME:CET
DTSTART:20261025T010000
END:STANDARD
BEGIN:DAYLIGHT
TZOFFSETFROM:+0100
TZOFFSETTO:+0200
TZNAME:CEST
DTSTART:20270328T010000
END:DAYLIGHT
BEGIN:STANDARD
TZOFFSETFROM:+0200
TZOFFSETTO:+0100
TZNAME:CET
DTSTART:20271031T010000
END:STANDARD
END:VTIMEZONE
BEGIN:VEVENT
DTSTART;TZID=Europe/Prague:20260128T180000
DTEND;TZID=Europe/Prague:20260128T200000
DTSTAMP:20260421T021026
CREATED:20260107T201807Z
LAST-MODIFIED:20260112T091818Z
UID:25566-1769623200-1769630400@www.cma.cz
SUMMARY:1. setkání Klubu Čechy
DESCRIPTION:Vážení členové České manažerské asociace. \nKlub ČMA Čechy\, Vás zve na 1.setkání klubu v roce 2026\, který zahajuje cyklus Manažerské etudy. \nTématem je: Role lídra v roce 2026\nHostem je pan Michal Hornák\, který je držitel ocenění TOP 10 Manažera roku 2022\, Manažerem roku 2023\, CEO Manažer roku 2023\, Top 10 Manažer roku 2023 a držitel TOP CEO Forbes 2023\, který posdílí své zkušenosti z praxe k tomuto tématu.  \nR.S.V.P.: barvova@cma.cz \npříchod a networking od 17:30\ndiskuze a networking i po skončení programu \nPozvánka (PDF)
URL:https://www.cma.cz/akce/1-setkani-klubu-cechy/
LOCATION:AMBIS\, Lindnerova 575/1\, Praha\, 18000
CATEGORIES:Klub ČMA Čechy,Kluby,Setkání
ATTACH;FMTTYPE=image/jpeg:https://www.cma.cz/wp-content/uploads/2026/01/michal-hornak-sede-pozadi.jpg
END:VEVENT
END:VCALENDAR