BEGIN:VCALENDAR
VERSION:2.0
PRODID:-//ČESKÁ MANAŽERSKÁ ASOCIACE - ECPv6.15.15//NONSGML v1.0//EN
CALSCALE:GREGORIAN
METHOD:PUBLISH
X-ORIGINAL-URL:https://www.cma.cz
X-WR-CALDESC:Akce na ČESKÁ MANAŽERSKÁ ASOCIACE
REFRESH-INTERVAL;VALUE=DURATION:PT1H
X-Robots-Tag:noindex
X-PUBLISHED-TTL:PT1H
BEGIN:VTIMEZONE
TZID:Europe/Prague
BEGIN:DAYLIGHT
TZOFFSETFROM:+0100
TZOFFSETTO:+0200
TZNAME:CEST
DTSTART:20230326T010000
END:DAYLIGHT
BEGIN:STANDARD
TZOFFSETFROM:+0200
TZOFFSETTO:+0100
TZNAME:CET
DTSTART:20231029T010000
END:STANDARD
BEGIN:DAYLIGHT
TZOFFSETFROM:+0100
TZOFFSETTO:+0200
TZNAME:CEST
DTSTART:20240331T010000
END:DAYLIGHT
BEGIN:STANDARD
TZOFFSETFROM:+0200
TZOFFSETTO:+0100
TZNAME:CET
DTSTART:20241027T010000
END:STANDARD
BEGIN:DAYLIGHT
TZOFFSETFROM:+0100
TZOFFSETTO:+0200
TZNAME:CEST
DTSTART:20250330T010000
END:DAYLIGHT
BEGIN:STANDARD
TZOFFSETFROM:+0200
TZOFFSETTO:+0100
TZNAME:CET
DTSTART:20251026T010000
END:STANDARD
END:VTIMEZONE
BEGIN:VEVENT
DTSTART;TZID=Europe/Prague:20240625T093000
DTEND;TZID=Europe/Prague:20240625T120000
DTSTAMP:20260421T035835
CREATED:20240625T150931Z
LAST-MODIFIED:20241110T133119Z
UID:21218-1719307800-1719316800@www.cma.cz
SUMMARY:Zpětná vazba a slabé pracovní výkony
DESCRIPTION:Zpětná vazba jako nejlevnější nástroj pro rozvoj zaměstnanců?\nAno! Že se to zdá být jako klišé? Vůbec. V rozvoji zaměstnanců se správné a pravidelné podávání zpětné vazby ukazuje jako nejen nejlevnější\, ale i nejdostupnější nástroj. A přesto tak často podceňujeme její sílu. A proto jsme v JuiceUP spojili síly s Arrows a vydali se na zpětno-vazebnou roadshow\, kde kombinujeme pohled na zpětnou vazbu optikou rozvoje zaměstnanců a psychologie a na druhé straně práva. \n \nPřes všechny procesní optimalizace se stále často zapomíná na lidi. Ti jsou pro chod firmy to nejdůležitější! A právě k rozvoji lidí můžeme využívat jako jeden z nejefektivnějších a nejlevnějších nástrojů – zpětnou vazbu. Jaké ale může mít benefity\, které by nás na první dobrou nenapadly? Jaké jsou příklady dobré praxe\, které nám ilustrují její důležitost? A jak na ni? To vše vám poví v rámci ostravského HR Klubu\, Jaroslav Plavec\, spoluzakladatel JuiceUPu\, konzultant\, kouč a specialista na procesní řízení a obchod.\n \nV praxi musí firmy řešit nejen občasné porušování pracovních povinností\, ale také nedostatečnou pracovní výkonnost. Někdy ale může být poměrně dost složité takové nedostatečné výkony změřit nebo vůbec pojmenovat. Pokud však má vše proběhnout v souladu se zákonem\, musí být už samotný vytýkací dopis sepsán precizně a se všemi náležitostmi. Jak tento postup zvládnout a vyhnout se zbytečným sporům vám poví\, Jakub Oliva\, vedoucí advokát olomoucké pobočky Arrows a expert přes pracovní právo.  \nHradec Králové\, prostory Casa del Prosecco\, jsou poslední zastávkou naší roadshow zpětné vazby\, před létem. Tak doražte 25.6. v 9.30. Stačí se registrovat zdarma.  \nBudeme se na Vás těšit! \nREGISTRACE \nPozvánka (PDF) \n 
URL:https://www.cma.cz/akce/zpetna-vazba-a-slabe-pracovni-vykony/
LOCATION:Casa del Prosecco\, Velké nám. 137/17\, Hradec Králové\, 50003
CATEGORIES:Akce členů,RoadShow
ATTACH;FMTTYPE=image/jpeg:https://www.cma.cz/wp-content/uploads/2024/06/hradec_kralove.jpg
END:VEVENT
END:VCALENDAR