BEGIN:VCALENDAR
VERSION:2.0
PRODID:-//ČESKÁ MANAŽERSKÁ ASOCIACE - ECPv6.15.15//NONSGML v1.0//EN
CALSCALE:GREGORIAN
METHOD:PUBLISH
X-WR-CALNAME:ČESKÁ MANAŽERSKÁ ASOCIACE
X-ORIGINAL-URL:https://www.cma.cz
X-WR-CALDESC:Akce na ČESKÁ MANAŽERSKÁ ASOCIACE
REFRESH-INTERVAL;VALUE=DURATION:PT1H
X-Robots-Tag:noindex
X-PUBLISHED-TTL:PT1H
BEGIN:VTIMEZONE
TZID:Europe/Prague
BEGIN:DAYLIGHT
TZOFFSETFROM:+0100
TZOFFSETTO:+0200
TZNAME:CEST
DTSTART:20240331T010000
END:DAYLIGHT
BEGIN:STANDARD
TZOFFSETFROM:+0200
TZOFFSETTO:+0100
TZNAME:CET
DTSTART:20241027T010000
END:STANDARD
BEGIN:DAYLIGHT
TZOFFSETFROM:+0100
TZOFFSETTO:+0200
TZNAME:CEST
DTSTART:20250330T010000
END:DAYLIGHT
BEGIN:STANDARD
TZOFFSETFROM:+0200
TZOFFSETTO:+0100
TZNAME:CET
DTSTART:20251026T010000
END:STANDARD
BEGIN:DAYLIGHT
TZOFFSETFROM:+0100
TZOFFSETTO:+0200
TZNAME:CEST
DTSTART:20260329T010000
END:DAYLIGHT
BEGIN:STANDARD
TZOFFSETFROM:+0200
TZOFFSETTO:+0100
TZNAME:CET
DTSTART:20261025T010000
END:STANDARD
END:VTIMEZONE
BEGIN:VEVENT
DTSTART;TZID=Europe/Prague:20250220T140000
DTEND;TZID=Europe/Prague:20250220T140000
DTSTAMP:20260425T143916
CREATED:20250217T135451Z
LAST-MODIFIED:20250217T140131Z
UID:24305-1740060000-1740060000@www.cma.cz
SUMMARY:Kulatý stůl na téma "ESG - příležitost nebo riziko?"
DESCRIPTION:Koná se pod záštitou poslance Pavla Staňka. \nV době\, kdy se udržitelnost stává nepostradatelnou součástí odpovědného přístupu ke společnosti a životnímu prostředí\, je nezbytné hledat efektivní strategie a nástroje k implementaci ESG principů. Kulatý stůl bude zaměřen na klíčové výzvy\, příležitosti a inovace\, které mohou inspirovat široké spektrum aktérů ve veřejné správě i v podnikatelském sektoru. \nProgram:\n\nÚvodní slovo: Pavel Staněk\, MBA\, poslanec a moderátor\nPanelová diskuze na téma: “Jak mohou ESG principy ovlivnit budoucnost odpovědného podnikání? – od využívání území přes odpadovou legislativu až po udržitelné výrobky.“ V panelové diskusi bude pozornost zaměřena na legislativní opatření v oblasti udržitelného využívání území. Budou diskutovány možnosti obcí realizovat klimatická opatření a požadavky na ESG opatření v podnikatelské sféře.\nPanelová diskuze na téma: „ESG v praxi: Směřování k udržitelnosti\, Sociální pilíř a Governance složka“. V panelové diskusi se zaměříme na to\, jak mohou principy ESG ovlivnit budoucnost odpovědného podnikání\, s důrazem na sociální a governance pilíř. Budeme diskutovat o klíčové roli firem v nastavování transparentních procesů\, zajištění odpovědného rozhodování a správy\, zavádění etických standardů a dlouhodobých strategií\, které reflektují potřeby zaměstnanců i dalších stakeholderů.\nZávěrečné shrnutí\n\nPozvání k diskusi zatím přijali:\n\nPavel Staněk\, MBA\, poslanec\,\nJUDr. Tereza Snopková\, Ph.D.\, advokátka\, specialistka na právo životního prostředí a ekologii\,\nJUDr. Barbora Kořenářová\, advokátka\, specialistka na pracovně právní problematiku\,\nPhDr. Iva Moravcová\, psycholožka\,\nMgr. Michal Veselý\, CEO společnosti Trenkwalder\nIng. Mgr. Luděk Nezmar\, MBA\, senior consultant společnosti Acresia\n\nVstup do budovy je možný pouze s platným občanským průkazem. Kapacita je omezená\, účast potvrďte na email kopeckak@psp.cz. \nPozvánka (PDF)Pozvánka (PDF)
URL:https://www.cma.cz/akce/kulaty-stul-na-tema-esg-prilezitost-nebo-riziko/
LOCATION:Parlament České republiky (místnost A22)\, Sněmovní 4\, Praha 1
CATEGORIES:Kulatý stůl
ATTACH;FMTTYPE=image/jpeg:https://www.cma.cz/wp-content/uploads/2024/05/poslanecka_snemovna.jpg
END:VEVENT
END:VCALENDAR