BEGIN:VCALENDAR
VERSION:2.0
PRODID:-//ČESKÁ MANAŽERSKÁ ASOCIACE - ECPv6.15.15//NONSGML v1.0//EN
CALSCALE:GREGORIAN
METHOD:PUBLISH
X-WR-CALNAME:ČESKÁ MANAŽERSKÁ ASOCIACE
X-ORIGINAL-URL:https://www.cma.cz
X-WR-CALDESC:Akce na ČESKÁ MANAŽERSKÁ ASOCIACE
REFRESH-INTERVAL;VALUE=DURATION:PT1H
X-Robots-Tag:noindex
X-PUBLISHED-TTL:PT1H
BEGIN:VTIMEZONE
TZID:Europe/Prague
BEGIN:DAYLIGHT
TZOFFSETFROM:+0100
TZOFFSETTO:+0200
TZNAME:CEST
DTSTART:20200329T010000
END:DAYLIGHT
BEGIN:STANDARD
TZOFFSETFROM:+0200
TZOFFSETTO:+0100
TZNAME:CET
DTSTART:20201025T010000
END:STANDARD
BEGIN:DAYLIGHT
TZOFFSETFROM:+0100
TZOFFSETTO:+0200
TZNAME:CEST
DTSTART:20210328T010000
END:DAYLIGHT
BEGIN:STANDARD
TZOFFSETFROM:+0200
TZOFFSETTO:+0100
TZNAME:CET
DTSTART:20211031T010000
END:STANDARD
BEGIN:DAYLIGHT
TZOFFSETFROM:+0100
TZOFFSETTO:+0200
TZNAME:CEST
DTSTART:20220327T010000
END:DAYLIGHT
BEGIN:STANDARD
TZOFFSETFROM:+0200
TZOFFSETTO:+0100
TZNAME:CET
DTSTART:20221030T010000
END:STANDARD
BEGIN:DAYLIGHT
TZOFFSETFROM:+0100
TZOFFSETTO:+0200
TZNAME:CEST
DTSTART:20230326T010000
END:DAYLIGHT
BEGIN:STANDARD
TZOFFSETFROM:+0200
TZOFFSETTO:+0100
TZNAME:CET
DTSTART:20231029T010000
END:STANDARD
END:VTIMEZONE
BEGIN:VEVENT
DTSTART;TZID=Europe/Prague:20220316T143000
DTEND;TZID=Europe/Prague:20220316T143000
DTSTAMP:20260423T135932
CREATED:20220223T214111Z
LAST-MODIFIED:20241008T204405Z
UID:23432-1647441000-1647441000@www.cma.cz
SUMMARY:Setkání finalistů soutěže MANAŽER ROKU s primátorkou města Brna
DESCRIPTION:Primátorka města Brna JUDr. Markéta Vaňková ve spolupráci s Českou manažerskou asociací a jejím Regionálním klubem Morava zvou finalisty soutěže MANAŽER ROKU a další jihomoravské podnikatele na společné inspirativní setkání\, které se uskuteční ve středu 16. 3. 2022 od 14.30 hodin v nově zrekonstruovaném sále Rady města Brna\, Dominikánské náměstí\, Brno. \n\n\nProgram\n\n\n14:10 – 14:30 – Registrace účastníků\n14:30 – 15:30 – Oficiální část \n\nindividuální představení finalistů soutěže MANAŽER ROKU pocházejících z Jihomoravského kraje za posledních 5 let a dalších významných manažerů z tohoto regionu\nslovo primátorky JUDr. Markéty Vaňkové\ndiskuse na téma „Kam kráčí Brno“ a „Jak zvýšit přidanou hodnotu regionu“\n\n\n\n\n\n\n\nPořadatel: Regionální klub Morava
URL:https://www.cma.cz/akce/setkani-finalistu-souteze-manazer-roku-s-primatorkou-mesta-brna/
LOCATION:Sál Rady města Brna\, Dominikánské náměstí\, Brno
CATEGORIES:ČMA Regionální klub Morava,Kluby,Setkání
ATTACH;FMTTYPE=image/jpeg:https://www.cma.cz/wp-content/uploads/2022/02/zrekonstruovany_sal_rady_mesta_brno.jpg
END:VEVENT
BEGIN:VEVENT
DTSTART;TZID=Europe/Prague:20220303T080000
DTEND;TZID=Europe/Prague:20220303T170000
DTSTAMP:20260423T135932
CREATED:20220221T220539Z
LAST-MODIFIED:20241008T210739Z
UID:23453-1646294400-1646326800@www.cma.cz
SUMMARY:Na pivo s ČMA v Brně
DESCRIPTION:Klub mladých manažerů připravuje neformální akci – Na pivo s ČMA v Brně. Plánuje se setkání členů Klubu mladých manažerů a dalších zvaných hostů. Předností akce je neformální a přátelské prostředí\, kde organizátoři všechny účastníky osobně znají\, a díky tomu vznikají ideální podmínky jak pro setkání těch\, kteří se dlouho neviděli\, tak i pro získání nových kontaktů na zajímavé manažerské osobnosti. \nKdy: čtvrtek 3.3. od 18:00 do cca 21:00 (v případě dobré zábavy i déle) \nVstupné: zdarma \nV případě dotazů a zájmu o účast pište organizátorům akce:\nVilém Vrba: vrba@cma.cz\nKamil Pavlíček: kamil.pavlicek@unifer.cz \nTěšíme se na viděnou!
URL:https://www.cma.cz/akce/na-pivo-s-cma-v-brne/
CATEGORIES:Klub mladých manažerů,Kluby,Networking
ATTACH;FMTTYPE=image/jpeg:https://www.cma.cz/wp-content/uploads/2022/02/na-pivo-s-českou-manažerskou-asociací-3-3-2022.jpeg
END:VEVENT
BEGIN:VEVENT
DTSTART;TZID=Europe/Prague:20220227T150000
DTEND;TZID=Europe/Prague:20220227T150000
DTSTAMP:20260423T135932
CREATED:20220223T215429Z
LAST-MODIFIED:20241008T205642Z
UID:23443-1645974000-1645974000@www.cma.cz
SUMMARY:Satirická divadelní hra FACENET
DESCRIPTION:Docent Bohumír Štědroň z Prognostického klubu vás zve na satirickou hru FACENET na Malou scénu Hudebního divadla Karlín v neděli 27. 2. 2022 v 15:00.
URL:https://www.cma.cz/akce/satiricka-divadelni-hra-facenet/
LOCATION:Hudební divadlo Karlín\, Křižíkova 10/283\, Praha\, 18600
CATEGORIES:Divadelní hra,Kluby,Prognostický klub
ATTACH;FMTTYPE=image/png:https://www.cma.cz/wp-content/uploads/2022/02/facenet.png
END:VEVENT
BEGIN:VEVENT
DTSTART;TZID=Europe/Prague:20220223T140000
DTEND;TZID=Europe/Prague:20220223T180000
DTSTAMP:20260423T135932
CREATED:20220223T214846Z
LAST-MODIFIED:20241008T205051Z
UID:23437-1645624800-1645639200@www.cma.cz
SUMMARY:Setkání v Nemocnici Havířov s vítězem MANAŽERA ROKU 2020 Norbertem Schellongem
DESCRIPTION: 
URL:https://www.cma.cz/akce/setkani-v-nemocnici-havirov-s-vitezem-manazera-roku-2020-norbertem-schellongem/
LOCATION:Nemocnice Havířov\, Dělnická 1132/24\, Havířov
CATEGORIES:Elite Klub Moravskoslezského kraje,Kluby,Setkání
ATTACH;FMTTYPE=image/jpeg:https://www.cma.cz/wp-content/uploads/2022/02/bez-.jpg
END:VEVENT
BEGIN:VEVENT
DTSTART;TZID=Europe/Prague:20210210T170000
DTEND;TZID=Europe/Prague:20210210T170000
DTSTAMP:20260423T135932
CREATED:20220124T220758Z
LAST-MODIFIED:20241008T211028Z
UID:23455-1612976400-1612976400@www.cma.cz
SUMMARY:Porada Prognostického klubu ČMA s Českou asociací Římského klubu
DESCRIPTION:Česká manažerské asociace Vás srdečně zve na poradu Prognostického klubu ČMA společně  s Českou asociací Římského klubu. \nProgram\n\nInformace a vyhodnocení mezinárodní konference „Management\, technologie a sport“ 2.2.2022 konané na Masarykově univerzitě v Brně ve spolupráci s ČMA\nInformace o přípravě 3 dalších mezinárodních konferencí ve spolupráci s univerzitami (Manažerská politologie\, Izrael a Investice do vzdělání)\nInformace o přípravě nové knihy „Opportunities for Growth” jako odpověď na slavnou knihu Římského klubu “Limity růstu” z roku 1972.\nRůzné
URL:https://www.cma.cz/akce/porada-prognostickeho-klubu-cma-s-ceskou-asociaci-rimskeho-klubu/
LOCATION:ČMA (Václavské náměstí)\, Václavské náměstí 21/831
CATEGORIES:Kluby,Porada,Prognostický klub
ATTACH;FMTTYPE=image/jpeg:https://www.cma.cz/wp-content/uploads/2020/10/hand_shake.jpg
END:VEVENT
END:VCALENDAR