BEGIN:VCALENDAR
VERSION:2.0
PRODID:-//ČESKÁ MANAŽERSKÁ ASOCIACE - ECPv6.15.15//NONSGML v1.0//EN
CALSCALE:GREGORIAN
METHOD:PUBLISH
X-ORIGINAL-URL:https://www.cma.cz
X-WR-CALDESC:Akce na ČESKÁ MANAŽERSKÁ ASOCIACE
REFRESH-INTERVAL;VALUE=DURATION:PT1H
X-Robots-Tag:noindex
X-PUBLISHED-TTL:PT1H
BEGIN:VTIMEZONE
TZID:Europe/Prague
BEGIN:DAYLIGHT
TZOFFSETFROM:+0100
TZOFFSETTO:+0200
TZNAME:CEST
DTSTART:20250330T010000
END:DAYLIGHT
BEGIN:STANDARD
TZOFFSETFROM:+0200
TZOFFSETTO:+0100
TZNAME:CET
DTSTART:20251026T010000
END:STANDARD
BEGIN:DAYLIGHT
TZOFFSETFROM:+0100
TZOFFSETTO:+0200
TZNAME:CEST
DTSTART:20260329T010000
END:DAYLIGHT
BEGIN:STANDARD
TZOFFSETFROM:+0200
TZOFFSETTO:+0100
TZNAME:CET
DTSTART:20261025T010000
END:STANDARD
BEGIN:DAYLIGHT
TZOFFSETFROM:+0100
TZOFFSETTO:+0200
TZNAME:CEST
DTSTART:20270328T010000
END:DAYLIGHT
BEGIN:STANDARD
TZOFFSETFROM:+0200
TZOFFSETTO:+0100
TZNAME:CET
DTSTART:20271031T010000
END:STANDARD
END:VTIMEZONE
BEGIN:VEVENT
DTSTART;TZID=Europe/Prague:20260203T160000
DTEND;TZID=Europe/Prague:20260203T160000
DTSTAMP:20260421T064837
CREATED:20260107T202042Z
LAST-MODIFIED:20260108T090817Z
UID:25569-1770134400-1770134400@www.cma.cz
SUMMARY:Odborný workshop: Základ odolnosti firmy
DESCRIPTION:Vážení členové České manažerské asociace. \nKlub Grow & Flow Master Class\, pod vedením Jiřího Střelce\, ve spolupráci se členem ČMA – firmou Littlebit\, Vás zvou na workshop. \nObsahové zaměření:\n\nFiremní odolnost – budování firemního prostředí\nJak nastavit prostředí\, kde lidé zvládají tlak.\nJak přenést hodnoty\, kulturu a leadership do praxe.\nJak firma získá energii\, ne chaos.\nJasné role a odpovědnosti (CEO i mladých manažerů).\n\nR.S.V.P.\nbarvova@cma.cz \n  \nPozvánka (PDF)
URL:https://www.cma.cz/akce/odborny-workshop-zaklad-odolnosti-firmy/
LOCATION:The Flow Building\, Václavské náměstí 47 (3. patro)\, Praha
CATEGORIES:Grow & Flow Mastery Class,Kluby,Workshop
ATTACH;FMTTYPE=image/jpeg:https://www.cma.cz/wp-content/uploads/2024/09/manager3.jpg
END:VEVENT
BEGIN:VEVENT
DTSTART;TZID=Europe/Prague:20260320T083000
DTEND;TZID=Europe/Prague:20260320T083000
DTSTAMP:20260421T064837
CREATED:20260218T075142Z
LAST-MODIFIED:20260220T093651Z
UID:25976-1773995400-1773995400@www.cma.cz
SUMMARY:Exkurze do ABB Ostrava Mošnov
DESCRIPTION:Zavádění digitálních technologií do průmyslu\nZveme vás do společnosti ABB na Leaders Talk\, kde se setkají lídři průmyslu\, byznysu i vzdělávání nad tématem digitalizace a automatizace firem. \nČeká vás panelová diskuse „Od vizí k výsledkům“ zaměřená na praktické zkušenosti úspěšných společností\, dále blok věnovaný vzdělávání pro digitální a automatizované podniky a také exkurze do výrobní haly ABB Czech Republic. \nSoučástí setkání bude prostor pro neformální networking. \nProsíme o potvrzení účasti do 13.3.2026 na publisher@prioritymagazin.cz \nPozvánka a program (PDF)
URL:https://www.cma.cz/akce/exkurze-do-abb-ostrava-mosnov/
LOCATION:ABB s.r.o.\, Průmyslová 380\, Mošnov\, 742 51
CATEGORIES:Akce ČMA,ČMA Regionální klub Morava,Kluby
ATTACH;FMTTYPE=image/jpeg:https://www.cma.cz/wp-content/uploads/2026/02/abb-mosnov.jpg
END:VEVENT
BEGIN:VEVENT
DTSTART;TZID=Europe/Prague:20260325T180000
DTEND;TZID=Europe/Prague:20260325T180000
DTSTAMP:20260421T064837
CREATED:20260203T092016Z
LAST-MODIFIED:20260313T075136Z
UID:25855-1774461600-1774461600@www.cma.cz
SUMMARY:Manažerské etudy: Udržitelnost bez alibi
DESCRIPTION:Vážení členové České manažerské asociace. \nKlub ČMA Čechy\, Vás zve na další setkání klubu v roce 2026\, který pokračuje v cyklu Manažerské etudy. \nTéma: Jak CEO mění odpovědnost v konkurenční náskok \nHostem je pan Jiří Rösner\, generální ředitel společnosti Jungheinrich Chomutov s.r.o.\, který bude sdílet své zkušenosti z praxe k tomuto tématu.  \nPozvánka (PDF)
URL:https://www.cma.cz/akce/manazerske-etudy-udrzitelnost-bez-alibi/
LOCATION:Konferenční prostory výzkumné firmy Ipsos\, Slovanský dům\, Na Příkopě 22\, Praha 1 (vchod E je z vnitrobloku)
CATEGORIES:Klub ČMA Čechy,Kluby,Setkání
ATTACH;FMTTYPE=image/jpeg:https://www.cma.cz/wp-content/uploads/2026/02/jiri-rosner.jpg
END:VEVENT
BEGIN:VEVENT
DTSTART;TZID=Europe/Prague:20260512T160000
DTEND;TZID=Europe/Prague:20260512T200000
DTSTAMP:20260421T064837
CREATED:20260318T154338Z
LAST-MODIFIED:20260414T190745Z
UID:26121-1778601600-1778616000@www.cma.cz
SUMMARY:Workshop: Zažehněte GROW mladých manažerů
DESCRIPTION:Vážení členové České manažerské asociace. \nKlub Grow & Flow Master Class\, pod vedením Jiřího Střelce\, Vás zve na workshop zaměřený na rozvoj mladých manažerů a jejich roli v posouvání firmy vpřed. Společně se podíváme na spolupráci manažera a jeho zástupce\, sdílení odpovědnosti i budování efektivního leadershipu. \nTéma: Jak nastartovat osobní i firemní GROW\nHlavním tématem budou klíčové kompetence pro budoucnost – adaptabilita\, kvalitní komunikace a empatie – které dnes rozhodují o úspěchu jednotlivců i celých týmů. \nObsahové zaměření:\n\nSebepoznání\, vlastní cesta\, osobní odpovědnost.\nGROW: rozvoj lidí i firmy – Jak zapálit růstový mindset\nKompetence budoucnosti v praxi\n\nPozvěte si svého mladého zástupce 😊 25-35 let a přijďte na workshop spolu \n  \nTěšíme se na Vás\, prosíme jen o potvrzení účasti na e-mail: barvova@cma.cz \nPozvánka (PDF)
URL:https://www.cma.cz/akce/zazehnete-grow-mladych-manazeru/
LOCATION:Česká manažerská asociace\, Václavské náměstí 21\, Praha 1\, vchod do budovy SČMVD\, zasedací místnost A ve 4. patře
CATEGORIES:Grow & Flow Mastery Class,Kluby
ATTACH;FMTTYPE=image/jpeg:https://www.cma.cz/wp-content/uploads/2026/03/jiri-strelec2.jpg
END:VEVENT
BEGIN:VEVENT
DTSTART;TZID=Europe/Prague:20260604T180000
DTEND;TZID=Europe/Prague:20260604T180000
DTSTAMP:20260421T064837
CREATED:20260410T101019Z
LAST-MODIFIED:20260416T191019Z
UID:26295-1780596000-1780596000@www.cma.cz
SUMMARY:Manažerské etudy: Na hraně - Když výkon začne ničit výkon.
DESCRIPTION:Kde se výkon láme a začíná vyhoření?\nHostem bude Lukáš Víšek\, Ředitel produktového řízení a strategie společnosti ERA.a.s. \nProvede nás svým příběhem\, kdy se dostal do bodu kdy už věděl\, že nemůže dál. Na chvíli zmizel\, aby se mohl vrátit. Týdenní pobyt ve tmě byl zlomem a začátkem jeho zásadní změny v leadershipu i profesním nastavení. \nTěšíme se na Vás\, prosíme jen o potvrzení účasti na e-mail: barvova@cma.cz \nPozvánka (PDF)
URL:https://www.cma.cz/akce/manazerske-etudy-na-hrane-kdyz-vykon-zacne-nicit-vykon/
LOCATION:Galen clinic\, Benešovská 1922/2\, Praha 10\, 10100
CATEGORIES:Akce ČMA,Klub ČMA Čechy,Kluby
ATTACH;FMTTYPE=image/jpeg:https://www.cma.cz/wp-content/uploads/2026/04/era-lukas-visek.jpg
END:VEVENT
BEGIN:VEVENT
DTSTART;VALUE=DATE:20260922
DTEND;VALUE=DATE:20260923
DTSTAMP:20260421T064837
CREATED:20260107T203945Z
LAST-MODIFIED:20260107T203945Z
UID:25581-1790035200-1790121599@www.cma.cz
SUMMARY:Rozjeďte vlnu FLOW
DESCRIPTION:Podrobnosti se připravují.
URL:https://www.cma.cz/akce/rozjedte-vlnu-flow/
CATEGORIES:Grow & Flow Mastery Class,Kluby,Setkání
ATTACH;FMTTYPE=image/jpeg:https://www.cma.cz/wp-content/uploads/2026/01/manager-graf.jpg
END:VEVENT
BEGIN:VEVENT
DTSTART;VALUE=DATE:20261110
DTEND;VALUE=DATE:20261111
DTSTAMP:20260421T064837
CREATED:20260107T204520Z
LAST-MODIFIED:20260107T204520Z
UID:25586-1794268800-1794355199@www.cma.cz
SUMMARY:Moderní firma s etickými hodnotami
DESCRIPTION:Podrobnosti se připravují.
URL:https://www.cma.cz/akce/moderni-firma-s-etickymi-hodnotami/
CATEGORIES:Grow & Flow Mastery Class,Kluby,Setkání
ATTACH;FMTTYPE=image/jpeg:https://www.cma.cz/wp-content/uploads/2026/01/firma-eticke-hodnoty.jpg
END:VEVENT
END:VCALENDAR