BEGIN:VCALENDAR
VERSION:2.0
PRODID:-//ČESKÁ MANAŽERSKÁ ASOCIACE - ECPv6.15.15//NONSGML v1.0//EN
CALSCALE:GREGORIAN
METHOD:PUBLISH
X-ORIGINAL-URL:https://www.cma.cz
X-WR-CALDESC:Akce na ČESKÁ MANAŽERSKÁ ASOCIACE
REFRESH-INTERVAL;VALUE=DURATION:PT1H
X-Robots-Tag:noindex
X-PUBLISHED-TTL:PT1H
BEGIN:VTIMEZONE
TZID:Europe/Prague
BEGIN:DAYLIGHT
TZOFFSETFROM:+0100
TZOFFSETTO:+0200
TZNAME:CEST
DTSTART:20210328T010000
END:DAYLIGHT
BEGIN:STANDARD
TZOFFSETFROM:+0200
TZOFFSETTO:+0100
TZNAME:CET
DTSTART:20211031T010000
END:STANDARD
BEGIN:DAYLIGHT
TZOFFSETFROM:+0100
TZOFFSETTO:+0200
TZNAME:CEST
DTSTART:20220327T010000
END:DAYLIGHT
BEGIN:STANDARD
TZOFFSETFROM:+0200
TZOFFSETTO:+0100
TZNAME:CET
DTSTART:20221030T010000
END:STANDARD
BEGIN:DAYLIGHT
TZOFFSETFROM:+0100
TZOFFSETTO:+0200
TZNAME:CEST
DTSTART:20230326T010000
END:DAYLIGHT
BEGIN:STANDARD
TZOFFSETFROM:+0200
TZOFFSETTO:+0100
TZNAME:CET
DTSTART:20231029T010000
END:STANDARD
BEGIN:DAYLIGHT
TZOFFSETFROM:+0100
TZOFFSETTO:+0200
TZNAME:CEST
DTSTART:20240331T010000
END:DAYLIGHT
BEGIN:STANDARD
TZOFFSETFROM:+0200
TZOFFSETTO:+0100
TZNAME:CET
DTSTART:20241027T010000
END:STANDARD
END:VTIMEZONE
BEGIN:VEVENT
DTSTART;TZID=Europe/Prague:20230424T090000
DTEND;TZID=Europe/Prague:20230424T143000
DTSTAMP:20260423T105816
CREATED:20230215T114157Z
LAST-MODIFIED:20240923T104937Z
UID:22711-1682326800-1682346600@www.cma.cz
SUMMARY:Workshop /pro/ vedoucí sociální pracovníky
DESCRIPTION:
URL:https://www.cma.cz/akce/workshop-pro-vedouci-socialni-pracovniky/
CATEGORIES:Klub poskytovatelů sociálních služeb,Kluby,Workshop
ATTACH;FMTTYPE=image/jpeg:https://www.cma.cz/wp-content/uploads/2023/02/6001.jpeg
END:VEVENT
BEGIN:VEVENT
DTSTART;TZID=Europe/Prague:20220525T090000
DTEND;TZID=Europe/Prague:20220525T150000
DTSTAMP:20260423T105816
CREATED:20220408T202829Z
LAST-MODIFIED:20241008T203123Z
UID:23417-1653469200-1653490800@www.cma.cz
SUMMARY:Workshop: Týmová komunikace\, vzájemné vztahy a růst týmové spolupráce
DESCRIPTION:  \nČeská manažerská asociace a Klub poskytovatelů sociálních služeb a pomáhajících profesí ČMA pořádají workshop pro vedoucí pracovníky\, sociální pracovníky a další zájemce o komunikaci\, vztahy\, osobnostní i pracovní rozvoj \nTÝMOVÁ KOMUNIKACE\, VZÁJEMNÉ VZTAHY A RŮST TÝMOVÉ SPOLUPRÁCE\nTěší se na Vás:\nMgr. et Mgr. Miroslav Jan Šramota\n (ředitel PRODESECO\, s.r.o.\, supervizor\, psychoterapeut\, lektor) \nMgr. Filip Hajna\n (ředitel Velkého vozu Sever\, z. ú\, psychoterapeut\, lektor) \nIng. Simona Myslikovjanová\, Ph.D.\, MBA\, MBE\n(finalistka soutěže Manažer roku a umístění v TOP 36 manažerů ČR\, Learning Talent\, Communication\, Process & Development Specialist\, Lektorka roku 2017\, ředitelka CEO SiMyCo\, s.r.o.) \nVzhledem k omezené kapacitě\, prosíme o rezervace na email: tesarova@cma.cz  \nPro členy ČMA ZDARMA\nPro nečleny jen 490/osobu\n(platební údaje\, tj. číslo účtu a variabilní symbol\, budou zaslány jednotlivým zájemcům po obdržení řádné rezervace emailem) \n\nProgram:\n\n\n\n1. Mgr. et Mgr. Miroslav Jan Šramota – Pohodový tým a jeho tvorba a podpora\nZvyšujme týmovou pohodu: ukázka konceptu systemického přístupu pro sehrání týmu podle modelu Twin Star\, který se zaměřuje na budování spokojeného i výkonného týmu. Zaměření se na pozitivní prožitky pocitu sounáležitosti jako jsou oceňování\, zábava\, úspěch\, starost a péče o druhé a poté negativní faktory\, které spokojenost týmu ohrožují\, těmi jsou: problémy\, zranění\, překážky\, kritika. Vytvořte si svůj tým! \n\n\n2. Filip Hajna – Jak se správně naladit na tým a zjistit jeho potřeby\nCo ode mne tým očekává? Jak ho správně motivovat? Jak se naladit a propojit s týmem? Jak pracovat sám se sebou\, abych vnímal a vytvářel pozitivní pracovní vztahy? Odpovědi najdeme mimo jiné v systemické terapii\, hypnóze. \n\n\n3. Simona Myslikovjanová\, Ph.D.\, MBA\, MBE – Komunikace a týmová spolupráce\nProduktivita práce\, dosahování výsledků\, inovační myšlení a potenciál myšlení jsou přímým odrazem silné a zdravé firemní kultury. Velmi záleží na upevnění soužití a synergie mezi všemi zaměstnanci. Firemní kultura ovlivňuje chování lidí a zrcadlí jejich názory. Jak podpořit růstové myšlení jedince? Techniky efektivní komunikace\, síla disruptivního myšlení a jak nacházet nejoptimálnější řešení? Těšit se můžeme\, kromě jiného\, na problematiku Mindsetu. \n  \n\n\n\n\nVšichni účastníci obdrží osvědčení o absolvování tohoto workshopu v rozsahu 8 hodin. \nPo rezervaci dostane účastník bližší informace o konání\, info k platbě apod.
URL:https://www.cma.cz/akce/workshop-tymova-komunikace-vzajemne-vztahy-a-rust-tymove-spoluprace/
LOCATION:ČMA (Václavské náměstí)\, Václavské náměstí 21/831
CATEGORIES:Klub poskytovatelů sociálních služeb,Kluby,Workshop
ATTACH;FMTTYPE=image/jpeg:https://www.cma.cz/wp-content/uploads/2022/04/tymova-komunikace.jpg
END:VEVENT
END:VCALENDAR