BEGIN:VCALENDAR
VERSION:2.0
PRODID:-//ČESKÁ MANAŽERSKÁ ASOCIACE - ECPv6.15.15//NONSGML v1.0//EN
CALSCALE:GREGORIAN
METHOD:PUBLISH
X-ORIGINAL-URL:https://www.cma.cz
X-WR-CALDESC:Akce na ČESKÁ MANAŽERSKÁ ASOCIACE
REFRESH-INTERVAL;VALUE=DURATION:PT1H
X-Robots-Tag:noindex
X-PUBLISHED-TTL:PT1H
BEGIN:VTIMEZONE
TZID:Europe/Prague
BEGIN:DAYLIGHT
TZOFFSETFROM:+0100
TZOFFSETTO:+0200
TZNAME:CEST
DTSTART:20230326T010000
END:DAYLIGHT
BEGIN:STANDARD
TZOFFSETFROM:+0200
TZOFFSETTO:+0100
TZNAME:CET
DTSTART:20231029T010000
END:STANDARD
BEGIN:DAYLIGHT
TZOFFSETFROM:+0100
TZOFFSETTO:+0200
TZNAME:CEST
DTSTART:20240331T010000
END:DAYLIGHT
BEGIN:STANDARD
TZOFFSETFROM:+0200
TZOFFSETTO:+0100
TZNAME:CET
DTSTART:20241027T010000
END:STANDARD
BEGIN:DAYLIGHT
TZOFFSETFROM:+0100
TZOFFSETTO:+0200
TZNAME:CEST
DTSTART:20250330T010000
END:DAYLIGHT
BEGIN:STANDARD
TZOFFSETFROM:+0200
TZOFFSETTO:+0100
TZNAME:CET
DTSTART:20251026T010000
END:STANDARD
END:VTIMEZONE
BEGIN:VEVENT
DTSTART;TZID=Europe/Prague:20241031T100000
DTEND;TZID=Europe/Prague:20241031T160000
DTSTAMP:20260421T040321
CREATED:20241016T110811Z
LAST-MODIFIED:20250320T110226Z
UID:23532-1730368800-1730390400@www.cma.cz
SUMMARY:Konference Manažerů roku 2023
DESCRIPTION:Přijměte pozvání na prestižní Konferenci manažerů roku 2023\, na které se sejdou ti nejlepší z manažerů a lídrů\, jež byli oceněni a zúčastnili se naší společné soutěže Manažer roku 2023. Zakládáme tímto jako Česká manažerská asociace novou tradici a platformu pro sdílení osvědčených manažerských postupů a praktických zkušeností s Vámi – našimi členy a rovněž se studenty NEWTON University. Na konferenci budou diskutovat lídři velkých českých firem nad tématy\, která pálí manažery na všech pozicích – role transformačního manažera v růstu firmy\, inovace jako udržení výkonu a prosperity\, manažerský leadership a role pohlaví na řízení\, nebo manažerská excelence a zkušenosti z veřejného a soukromého sektoru. \nDOPOLEDNÍ PROGRAM\n10:00 Zahájení konference a přivítání hostů\n10:05 Jak krizi proměnit v růst: Role transformačního manažera \n\nMichal Hornák\, FORVIA Plant General Manager\nDaniel Digoň\, CEO ATALIAN\n\n11:00 Inovace jako cesta k úspěchu: Jak udržet výkon a prosperitu firmy \n\nLenka Průšová\, COO CB21 Pharma\nPetr Milata\, CEO BEZNOSKA\n\n12:00 Přestávka na oběd \nODPOLEDNÍ PROGRAM\n13:00 Manažerský leadership bez ohledu na pohlaví: Podobnosti a rozdíly v řízení \n\nRobert Masarovič\, CEO Pražská strojírna\nRenata Červenák Nývltová\, CEO ELTON hodinářská\n\n14:00 Jak zvládat tlak technologických změn: Klíčové strategie pro manažery \n\nMichal Řezníček\, CEO Direct Pojišťovna\nDalibor Kačmář\, CTO Microsoft ČR a SR\n\n15:00 Manažerská excelence v praxi: Inspirace ze soukromých firem a veřejných institucí \n\nMartin Hrubý\, CMO Slevomat\nMartin Válek\, CEO Karat Software\nJaroslav Brandejs\, tajemník MÚ Říčany\n\n16:00 Závěrečná číše vína s účastníky konference \nRegistrace R.S.V.P. pro členy ČMARegistrace R.S.V.P. pro členy ČMADETAILY O KONFERENCIDETAILY O KONFERENCI
URL:https://www.cma.cz/akce/konference-manazeru-roku-2023/
LOCATION:NEWTON University\, 5. května 1640/65\, Praha 4
CATEGORIES:Klub Manažerů roku,Kluby,Konference
ATTACH;FMTTYPE=image/jpeg:https://www.cma.cz/wp-content/uploads/2024/05/b.prevrati-chart-ferrox-manazer-roku-2022-michal-hornak-manazer-roku-2023-witte-automotive-jiri-kolenak-newton-university-olga-girstlova-cma.jpg
END:VEVENT
BEGIN:VEVENT
DTSTART;TZID=Europe/Prague:20240423T140000
DTEND;TZID=Europe/Prague:20240423T163000
DTSTAMP:20260421T040321
CREATED:20240316T112234Z
LAST-MODIFIED:20240828T102524Z
UID:22462-1713880800-1713889800@www.cma.cz
SUMMARY:Setkání u MANAŽERKY ROKU 2022 v UNIQA
DESCRIPTION:
URL:https://www.cma.cz/akce/setkani-u-manazerky-roku-2022-v-uniqa/
LOCATION:UNIQA\, Evropská 810/136\, Praha 6\, 16012
CATEGORIES:Klub Manažerů roku,Kluby,Networking
ATTACH;FMTTYPE=image/jpeg:https://www.cma.cz/wp-content/uploads/2024/03/iss_4694-a-scaled.jpg
END:VEVENT
BEGIN:VEVENT
DTSTART;TZID=Europe/Prague:20240228T140000
DTEND;TZID=Europe/Prague:20240228T170000
DTSTAMP:20260421T040321
CREATED:20231215T100914Z
LAST-MODIFIED:20240829T091358Z
UID:22511-1709128800-1709139600@www.cma.cz
SUMMARY:Setkání u Manažera roku 2022 a s primátorem města Děčín
DESCRIPTION:
URL:https://www.cma.cz/akce/setkani-u-manazera-roku-2022-a-s-primatorem-mesta-decin/
LOCATION:Chart Ferox\, a.s.\, Ústecká 1335/30\, Děčín V-Rozbělesy\, 40502
CATEGORIES:Klub Manažerů roku,Kluby,Setkání
ATTACH;FMTTYPE=image/png:https://www.cma.cz/wp-content/uploads/2023/12/snimek-obrazovky-2023-12-15-v-8.42.05.png
END:VEVENT
END:VCALENDAR