BEGIN:VCALENDAR
VERSION:2.0
PRODID:-//ČESKÁ MANAŽERSKÁ ASOCIACE - ECPv6.15.15//NONSGML v1.0//EN
CALSCALE:GREGORIAN
METHOD:PUBLISH
X-WR-CALNAME:ČESKÁ MANAŽERSKÁ ASOCIACE
X-ORIGINAL-URL:https://www.cma.cz
X-WR-CALDESC:Akce na ČESKÁ MANAŽERSKÁ ASOCIACE
REFRESH-INTERVAL;VALUE=DURATION:PT1H
X-Robots-Tag:noindex
X-PUBLISHED-TTL:PT1H
BEGIN:VTIMEZONE
TZID:Europe/Prague
BEGIN:DAYLIGHT
TZOFFSETFROM:+0100
TZOFFSETTO:+0200
TZNAME:CEST
DTSTART:20220327T010000
END:DAYLIGHT
BEGIN:STANDARD
TZOFFSETFROM:+0200
TZOFFSETTO:+0100
TZNAME:CET
DTSTART:20221030T010000
END:STANDARD
BEGIN:DAYLIGHT
TZOFFSETFROM:+0100
TZOFFSETTO:+0200
TZNAME:CEST
DTSTART:20230326T010000
END:DAYLIGHT
BEGIN:STANDARD
TZOFFSETFROM:+0200
TZOFFSETTO:+0100
TZNAME:CET
DTSTART:20231029T010000
END:STANDARD
BEGIN:DAYLIGHT
TZOFFSETFROM:+0100
TZOFFSETTO:+0200
TZNAME:CEST
DTSTART:20240331T010000
END:DAYLIGHT
BEGIN:STANDARD
TZOFFSETFROM:+0200
TZOFFSETTO:+0100
TZNAME:CET
DTSTART:20241027T010000
END:STANDARD
BEGIN:DAYLIGHT
TZOFFSETFROM:+0100
TZOFFSETTO:+0200
TZNAME:CEST
DTSTART:20250330T010000
END:DAYLIGHT
BEGIN:STANDARD
TZOFFSETFROM:+0200
TZOFFSETTO:+0100
TZNAME:CET
DTSTART:20251026T010000
END:STANDARD
BEGIN:DAYLIGHT
TZOFFSETFROM:+0100
TZOFFSETTO:+0200
TZNAME:CEST
DTSTART:20260329T010000
END:DAYLIGHT
BEGIN:STANDARD
TZOFFSETFROM:+0200
TZOFFSETTO:+0100
TZNAME:CET
DTSTART:20261025T010000
END:STANDARD
BEGIN:DAYLIGHT
TZOFFSETFROM:+0100
TZOFFSETTO:+0200
TZNAME:CEST
DTSTART:20270328T010000
END:DAYLIGHT
BEGIN:STANDARD
TZOFFSETFROM:+0200
TZOFFSETTO:+0100
TZNAME:CET
DTSTART:20271031T010000
END:STANDARD
END:VTIMEZONE
BEGIN:VEVENT
DTSTART;TZID=Europe/Prague:20260122T170000
DTEND;TZID=Europe/Prague:20260122T220000
DTSTAMP:20260421T040321
CREATED:20260107T201233Z
LAST-MODIFIED:20260108T090839Z
UID:25558-1769101200-1769119200@www.cma.cz
SUMMARY:Večírek Facility managementu
DESCRIPTION:Pozvánka na 12. večírek absolventů FM rekvalifikace a přátel oboru\nHLAVNÍ HOST VEČERA Marian Gečevský (i-Ambasador) \nSociolog z Bratislavy\, který přináší nový pohled na vztah mezi lidmi a prostředím\, v němž pracují. \nVe svém vystoupení „DOBROVAČKY“ představí koncept Sociálního facility managementu (Sociální FM) – přístup\, který staví do centra pozornosti firemní dobro. \nUkáže\, jak může péče o lidskou pohodu na pracovišti zvyšovat efektivitu\, loajalitu i přidanou hodnotu celé organizace. \nJeho interaktivní přístup zapojí i samotné účastníky večírku. \n  \nTěšit se můžete na vína z daleké ciziny\, Prosecco a klasické občerstvení. \nOblečení neformální. \nHudební vystoupení: Vilemína Marhoulová\, DiS. Art \nVstup volný po registraci na: ondrej.strup@fminstitute.cz \n  \nPozvánka (PDF)
URL:https://www.cma.cz/akce/vecirek-facility-managementu/
LOCATION:hotel Olympik\, Sokolovská 138\, Praha\, 18676
CATEGORIES:Klub Facility Manažerů,Kluby
ATTACH;FMTTYPE=image/jpeg:https://www.cma.cz/wp-content/uploads/2026/01/prituknuti-vinem.jpg
END:VEVENT
BEGIN:VEVENT
DTSTART;TZID=Europe/Prague:20250408T090000
DTEND;TZID=Europe/Prague:20250408T113000
DTSTAMP:20260421T040321
CREATED:20250326T080448Z
LAST-MODIFIED:20250326T080628Z
UID:24529-1744102800-1744111800@www.cma.cz
SUMMARY:Snídaně nad energetikou v krajích v Jihlavě
DESCRIPTION:Vážení členové ČMA\, \nmáte-li nějaké aktivity v oblasti energetiky v některém z krajů/regionů republiky\, mohla by Vás zajímat Snídaně na Krajském úřadě Vysočiny s názvem Energetika v krajích. Diskutovat se bude o aktuálních výzvách v této oblasti ze strany komerčních subjektů\, o postojích samospráv\, regulačních a povolovacích orgánů. Snídani spolupořádá Facility Management klub ČMA spolu s časopisem Development News. \nSvou účast\, prosím\, potvrďte brzy na redakce@wpevent.cz\, snídaně se bude konat v omezeném počtu osob\, pro členy ČMA je samozřejmě zdarma (registrace od 8:30 hod.). 
URL:https://www.cma.cz/akce/snidane-nad-energetikou-v-krajich-v-jihlave/
LOCATION:Krajský úřad Kraje Vysočina\, Žižkova 1882/57\, Jihlava
CATEGORIES:Klub Facility Manažerů,Kluby
ATTACH;FMTTYPE=image/jpeg:https://www.cma.cz/wp-content/uploads/2025/03/snidane.jpg
END:VEVENT
BEGIN:VEVENT
DTSTART;TZID=Europe/Prague:20250327T160000
DTEND;TZID=Europe/Prague:20250327T160000
DTSTAMP:20260421T040321
CREATED:20250320T112109Z
LAST-MODIFIED:20250320T112734Z
UID:24465-1743091200-1743091200@www.cma.cz
SUMMARY:Pozvánka Facility Management klubu ČMA na akci s Fidoo v Le Palais
DESCRIPTION:Vážení členové ČMA\,  \ndovolte\, abychom Vás pozvali na akci spolupořádanou Facility Management klubem ČMA a který se týká nového zajímavého řešení správy firemních financí – především z hlediska jejich plynulosti a přehlednosti. Pokud byste měli zájem dozvědět se víc\, přijměte pozvání od projektu Fidoo ze skupiny Direct. V inspirujícím prostředí Le Palais Art Hotel Prague se potkáte s experty\, kteří dennodenně řeší nejčastější problémy českých SME firem. Přijďte se od nich dozvědět\, co Vám banky o směně a platbách rozhodně neřeknou a odneste si návod\, jak jednoduše dostat provozní výdaje ve své firmě pod kontrolu\, přestat pálit další peníze i čas a najít úspory tam\, kde byste to ani nečekali. \n\nKDE: Le Palais Art Hotel Prague\, U Zvonařky 1\, 120 00 Praha 2\nKDY: 27. března 2025\, 16:00 (registrace od 15:30)\nR.S.V.P. kristyna.dolezalova@fidoo.com nebo wagner@wpevent.cz\n\nNetworking? Po oficiální části přichází na řadu program z jiného soudku – třeba toho\, ve kterém zrálo výběrové rakouské víno. Událost je určena pouze pro prvních 15 přihlášených z ČMA!!! \nTémata\, která Vám ukáží nový úhel pohledu\n\nJak přinést plynulost do správy firemních financí\nÚvodní slovo Petra Herzmanna\, CEO & spolumajitele Direct Fidoo. Na jakých pilířích stojí kredibilita Fidoo\, co je jeho misí a kam směřuje? \nFX & zahraniční platby: Garance nejvýhodnějších kurzů\nOndřej Janda ví\, jak to chodí na druhé straně – za sluchátkem bankovního dealingu. Jak poznat\, že Váš “výhodný” kurz není výhodný ani trochu? Jak je možné\, že směna měn a zahraniční platby s Fidoo FX fungují férově a proč to tak nedělají i ostatní hráči na trhu?\nExpense management: 100% přehled\, 0% zbytečné práce\nOndřej Minář ukáže\, že už nemusíte řešit vydávání hotovostních záloh\, ztracené účtenky\, vystavování nových platebních karet na jméno zaměstnance pokaždé\, když z firmy někdo odejde ani 5 dnů připomínat schválení výdaje po e-mailu. A že Vaše účetní může mít všechna data od kolegů v průběhu celého měsíce.Ne 3 dny před uzávěrkou.\nCase study: Příběh z praxe v živém přenosu vydá za tisíc slov. Uslyšíte ho od jednoho z 1300+ firemních zákazníků\, kterým Fidoo pomáhá.\n\nPořadatelem akce je magazín Development news & Facility manager pod záštitou Klubu Facility manažerů České Manažerské Asociace.  \nTěšíme se na Vás!  Arnošt Wagner\, ČMA & tým Fidoo  \nPOZVÁNKA (PDF)POZVÁNKA (PDF)
URL:https://www.cma.cz/akce/pozvanka-facility-management-klubu-cma-na-akci-s-fidoo-v-le-palais/
LOCATION:Le Palais Art Hotel Prague\, U Zvonařky 1\, Praha 2\, 120 00
CATEGORIES:Klub Facility Manažerů,Kluby
ATTACH;FMTTYPE=image/png:https://www.cma.cz/wp-content/uploads/2025/03/mene_papirovani.png
END:VEVENT
BEGIN:VEVENT
DTSTART;TZID=Europe/Prague:20240919T170000
DTEND;TZID=Europe/Prague:20240919T220000
DTSTAMP:20260421T040321
CREATED:20240905T212653Z
LAST-MODIFIED:20240905T212948Z
UID:22608-1726765200-1726783200@www.cma.cz
SUMMARY:9. Setkání absolventů FN rekvalifikace a přátel oboru
DESCRIPTION:FM INSTITUTE\nve spolupráci s\n \nVás zve na \n9. Setkání absolventů F rekvalifikace a přátel oboru\nve čtvrtek 19. 9. 2024 od 17—22 hodin \n19. patro hotelu Olympik\, Sokolovská 138\, Praha 8—Karlín \nOblečení neformální\, vstup volný po registraci na ondrej.strup@fminstitute.cz
URL:https://www.cma.cz/akce/9-setkani-absolventu-fn-rekvalifikace-a-pratel-oboru/
LOCATION:hotelu Olympik\, Sokolovská 138\, Praha 8
CATEGORIES:Klub Facility Manažerů,Kluby,Setkání
ATTACH;FMTTYPE=image/jpeg:https://www.cma.cz/wp-content/uploads/2023/02/managers.jpg
END:VEVENT
BEGIN:VEVENT
DTSTART;TZID=Europe/Prague:20240828T160000
DTEND;TZID=Europe/Prague:20240828T180000
DTSTAMP:20260421T040321
CREATED:20240115T142347Z
LAST-MODIFIED:20241110T133155Z
UID:22496-1724860800-1724868000@www.cma.cz
SUMMARY:Jak prokázat hodnotu facility služby
DESCRIPTION:Plakát v PDFPlakát v PDF
URL:https://www.cma.cz/akce/jak-prokazat-hodnotu-facility-sluzby/
LOCATION:Le Palais Art Hotel Prague\, U Zvonařky 1\, Praha 2\, 120 00
CATEGORIES:Akce ČMA,Klub Facility Manažerů,Kluby,Seminář
ATTACH;FMTTYPE=image/jpeg:https://www.cma.cz/wp-content/uploads/2023/06/facility-management-software-1-1.jpg
END:VEVENT
BEGIN:VEVENT
DTSTART;TZID=Europe/Prague:20240404T170000
DTEND;TZID=Europe/Prague:20240404T190000
DTSTAMP:20260421T040321
CREATED:20240225T141551Z
LAST-MODIFIED:20240828T131838Z
UID:22483-1712250000-1712257200@www.cma.cz
SUMMARY:SINGAPUR - inspirace a příležitost pro Váš business
DESCRIPTION:Plakát v PDFPlakát v PDF
URL:https://www.cma.cz/akce/singapur-inspirace-a-prilezitost-pro-vas-business/
LOCATION:Le Palais Art Hotel Prague\, U Zvonařky 1\, Praha 2\, 120 00
CATEGORIES:Klub Facility Manažerů,Kluby,Setkání
ATTACH;FMTTYPE=image/jpeg:https://www.cma.cz/wp-content/uploads/2024/02/snimek-obrazovky_15-2-2024_123226_www.canva_.com_.jpeg
END:VEVENT
BEGIN:VEVENT
DTSTART;TZID=Europe/Prague:20240229T160000
DTEND;TZID=Europe/Prague:20240229T180000
DTSTAMP:20260421T040321
CREATED:20240214T141904Z
LAST-MODIFIED:20240828T132142Z
UID:22487-1709222400-1709229600@www.cma.cz
SUMMARY:Domovy pro seniory jako unikátní investiční příležitost
DESCRIPTION:Plakát v PDFPlakát v PDF
URL:https://www.cma.cz/akce/domovy-pro-seniory-jako-unikatni-investicni-prilezitost/
LOCATION:Le Palais Art Hotel Prague\, U Zvonařky 1\, Praha 2\, 120 00
CATEGORIES:Klub Facility Manažerů,Kluby,Setkání
ATTACH;FMTTYPE=image/png:https://www.cma.cz/wp-content/uploads/2024/02/recepce-logo.png
END:VEVENT
BEGIN:VEVENT
DTSTART;TZID=Europe/Prague:20240118T170000
DTEND;TZID=Europe/Prague:20240118T220000
DTSTAMP:20260421T040321
CREATED:20231204T104658Z
LAST-MODIFIED:20240829T094959Z
UID:22528-1705597200-1705615200@www.cma.cz
SUMMARY:Pozvánka na setkání absolventů FM rekvalifikace a přátel oboru
DESCRIPTION:
URL:https://www.cma.cz/akce/pozvanka-na-setkani-absolventu-fm-rekvalifikace-a-pratel-oboru/
LOCATION:hotel Olympik\, Sokolovská 138\, Praha\, 18676
CATEGORIES:Klub Facility Manažerů,Kluby,Setkání
ATTACH;FMTTYPE=image/jpeg:https://www.cma.cz/wp-content/uploads/2023/08/zachyceni-webu_2-8-2023_13225_www.fminstitute.cz_.jpeg
END:VEVENT
BEGIN:VEVENT
DTSTART;TZID=Europe/Prague:20231103T093000
DTEND;TZID=Europe/Prague:20231103T110000
DTSTAMP:20260421T040321
CREATED:20231108T110956Z
LAST-MODIFIED:20240829T101203Z
UID:22548-1699003800-1699009200@www.cma.cz
SUMMARY:První společná snídaně
DESCRIPTION:
URL:https://www.cma.cz/akce/prvni-spolecna-snidane/
LOCATION:CAFE YDEAL\, Ovocný trh 11\, Praha 1
CATEGORIES:Klub Facility Manažerů,Kluby,Networking
ATTACH;FMTTYPE=image/jpeg:https://www.cma.cz/wp-content/uploads/2023/11/bos09630-scaled.jpg
END:VEVENT
BEGIN:VEVENT
DTSTART;TZID=Europe/Prague:20230907T170000
DTEND;TZID=Europe/Prague:20230907T220000
DTSTAMP:20260421T040321
CREATED:20230802T170811Z
LAST-MODIFIED:20240831T171004Z
UID:22584-1694106000-1694124000@www.cma.cz
SUMMARY:Pozvánka na setkání absolventů FM rekvalifikace a přátel oboru
DESCRIPTION:
URL:https://www.cma.cz/akce/pozvanka-na-setkani-absolventu-fm-rekvalifikace-a-pratel-oboru-2/
LOCATION:hotelu Olympik\, Sokolovská 138\, Praha 8
CATEGORIES:Klub Facility Manažerů,Kluby,Setkání
ATTACH;FMTTYPE=image/jpeg:https://www.cma.cz/wp-content/uploads/2023/08/zachyceni-webu_2-8-2023_13225_www.fminstitute.cz_.jpeg
END:VEVENT
BEGIN:VEVENT
DTSTART;TZID=Europe/Prague:20230815T080000
DTEND;TZID=Europe/Prague:20230816T170000
DTSTAMP:20260421T040321
CREATED:20230802T171126Z
LAST-MODIFIED:20240831T171343Z
UID:22587-1692086400-1692205200@www.cma.cz
SUMMARY:Odborné webináře - Facility management
DESCRIPTION:  \nChcete se seznámit s rychle se rozvíjejícím oborem facility management? \nMáte stále představu\, že facility management je pouze správa majetku? \nSlyšeli jste termín facility management a nevíte přesně\, o co se jedná? \nŘídíte organizaci a v řídící struktuře nemáte úsek facility managementu? \nNevíte\, co je náplní facility manažera? \n\nPak jsme právě pro Vás připravili 2 webináře: \n\nSpráva majetku vs. facility management (v délce 2 hodin)\nDesatero facility manažera (v půldenním formátu)\n\n\nSpráva majetku vs. facility management \nTermín: úterý 15. 8. 2023 (10 – 12) \nProstředí: MS Teams \nVíce informací naleznete ZDE \n\nDesatero facility manažera \nTermín: středa 16. 8. 2023 (9 – 13) \nProstředí: MS Teams \nVíce informací naleznete ZDE
URL:https://www.cma.cz/akce/odborne-webinare-facility-management/
LOCATION:Online
CATEGORIES:Klub Facility Manažerů,Kluby,Webinář
ATTACH;FMTTYPE=image/jpeg:https://www.cma.cz/wp-content/uploads/2023/06/facility-management-software-1-1.jpg
END:VEVENT
BEGIN:VEVENT
DTSTART;TZID=Europe/Prague:20230629T160000
DTEND;TZID=Europe/Prague:20230629T180000
DTSTAMP:20260421T040321
CREATED:20230601T192137Z
LAST-MODIFIED:20240923T074045Z
UID:22598-1688054400-1688061600@www.cma.cz
SUMMARY:NEFORMÁLNÍ SETKÁNÍ SE ČLENY KLUBU FACILITY MANAŽERŮ ČESKÉ MANAŽERSKÉ ASOCIACE
DESCRIPTION:
URL:https://www.cma.cz/akce/neformalni-setkani-se-cleny-klubu-facility-manazeru-ceske-manazerske-asociace/
LOCATION:Le Palais Art Hotel Prague\, U Zvonařky 1\, Praha 2\, 120 00
CATEGORIES:Klub Facility Manažerů,Kluby,Setkání
ATTACH;FMTTYPE=image/jpeg:https://www.cma.cz/wp-content/uploads/2023/06/facility-management-software-1-1.jpg
END:VEVENT
END:VCALENDAR