BEGIN:VCALENDAR
VERSION:2.0
PRODID:-//ČESKÁ MANAŽERSKÁ ASOCIACE - ECPv6.15.15//NONSGML v1.0//EN
CALSCALE:GREGORIAN
METHOD:PUBLISH
X-WR-CALNAME:ČESKÁ MANAŽERSKÁ ASOCIACE
X-ORIGINAL-URL:https://www.cma.cz
X-WR-CALDESC:Akce na ČESKÁ MANAŽERSKÁ ASOCIACE
REFRESH-INTERVAL;VALUE=DURATION:PT1H
X-Robots-Tag:noindex
X-PUBLISHED-TTL:PT1H
BEGIN:VTIMEZONE
TZID:Europe/Prague
BEGIN:DAYLIGHT
TZOFFSETFROM:+0100
TZOFFSETTO:+0200
TZNAME:CEST
DTSTART:20210328T010000
END:DAYLIGHT
BEGIN:STANDARD
TZOFFSETFROM:+0200
TZOFFSETTO:+0100
TZNAME:CET
DTSTART:20211031T010000
END:STANDARD
BEGIN:DAYLIGHT
TZOFFSETFROM:+0100
TZOFFSETTO:+0200
TZNAME:CEST
DTSTART:20220327T010000
END:DAYLIGHT
BEGIN:STANDARD
TZOFFSETFROM:+0200
TZOFFSETTO:+0100
TZNAME:CET
DTSTART:20221030T010000
END:STANDARD
BEGIN:DAYLIGHT
TZOFFSETFROM:+0100
TZOFFSETTO:+0200
TZNAME:CEST
DTSTART:20230326T010000
END:DAYLIGHT
BEGIN:STANDARD
TZOFFSETFROM:+0200
TZOFFSETTO:+0100
TZNAME:CET
DTSTART:20231029T010000
END:STANDARD
BEGIN:DAYLIGHT
TZOFFSETFROM:+0100
TZOFFSETTO:+0200
TZNAME:CEST
DTSTART:20240331T010000
END:DAYLIGHT
BEGIN:STANDARD
TZOFFSETFROM:+0200
TZOFFSETTO:+0100
TZNAME:CET
DTSTART:20241027T010000
END:STANDARD
BEGIN:DAYLIGHT
TZOFFSETFROM:+0100
TZOFFSETTO:+0200
TZNAME:CEST
DTSTART:20250330T010000
END:DAYLIGHT
BEGIN:STANDARD
TZOFFSETFROM:+0200
TZOFFSETTO:+0100
TZNAME:CET
DTSTART:20251026T010000
END:STANDARD
BEGIN:DAYLIGHT
TZOFFSETFROM:+0100
TZOFFSETTO:+0200
TZNAME:CEST
DTSTART:20260329T010000
END:DAYLIGHT
BEGIN:STANDARD
TZOFFSETFROM:+0200
TZOFFSETTO:+0100
TZNAME:CET
DTSTART:20261025T010000
END:STANDARD
END:VTIMEZONE
BEGIN:VEVENT
DTSTART;TZID=Europe/Prague:20251016T093000
DTEND;TZID=Europe/Prague:20251016T093000
DTSTAMP:20260421T052604
CREATED:20250715T110830Z
LAST-MODIFIED:20250715T110954Z
UID:24807-1760607000-1760607000@www.cma.cz
SUMMARY:Konference Crypto Business Prague 2025 - brána do světa kryptoměn
DESCRIPTION:Za podpory ČMA proběhne 16.10.2025 odborná kryptoměnová konference určená firmám\, které chtějí objevit nové příležitosti v digitálním světě kryptoměn – ať už s nimi dosud nemají žádné zkušenosti\, nebo se o ně teprve začínají zajímat. \n\n\nCílem konference je ukázat\, jak mohou moderní kryptoměnové nástroje a technologie pomoci zefektivnit firemní procesy a ekonomiku\, získat konkurenční výhodu a otevřít dveře k novým trhům i zákazníkům. Bez zbytečné technické složitosti\, zato s důrazem na praktické využití v byznysu. O své zkušenosti se podělí zástupci kryptoměnových společností. \nVíce na stránkách konference.
URL:https://www.cma.cz/akce/konference-crypto-business-prague-2025-brana-do-sveta-kryptomen/
LOCATION:Spojka Karlín\, Pernerova 697/35\, Praha 8\, 18600
CATEGORIES:Grow & Flow Mastery Class,Kluby,Konference
ATTACH;FMTTYPE=image/png:https://www.cma.cz/wp-content/uploads/2025/07/crypto_bussiness_prague_2025_banner.png
END:VEVENT
BEGIN:VEVENT
DTSTART;TZID=Europe/Prague:20241007T080000
DTEND;TZID=Europe/Prague:20241007T170000
DTSTAMP:20260421T052604
CREATED:20221206T173859Z
LAST-MODIFIED:20241007T164058Z
UID:23306-1728288000-1728320400@www.cma.cz
SUMMARY:Workshop Klubu vzdělávání manažerů
DESCRIPTION:
URL:https://www.cma.cz/akce/workshop-klubu-vzdelavani-manazeru/
LOCATION:Restaurace Black Horse Liberec – Fresh Break\, Nerudovo nám 108/1\, Liberec
CATEGORIES:Grow & Flow Mastery Class,Kluby,Workshop
ATTACH;FMTTYPE=image/jpeg:https://www.cma.cz/wp-content/uploads/2022/12/071_n.jpg
END:VEVENT
BEGIN:VEVENT
DTSTART;TZID=Europe/Prague:20220913T090000
DTEND;TZID=Europe/Prague:20220913T110000
DTSTAMP:20260421T052604
CREATED:20220810T055744Z
LAST-MODIFIED:20250129T194515Z
UID:23364-1663059600-1663066800@www.cma.cz
SUMMARY:HR Chatting: Vzdělávat lidi\, nebo rozvíjet organizaci?
DESCRIPTION:Ukázkový seminář přináší nový pohled na rozvoj organizace jako doplněk již běžně fungujícího vzdělávání lidí. \n• Proč lidé nepoužívají dovednosti\, které jste jim umožnili natrénovat?\n• Šetříme na vzdělávání\, tak jak mám vedení argumentovat potřebu rozvoje na úrovni postojů lidí?\n• Podle čeho poznám\, že nabízené řešení na vzdělávání lidí nebo rozvoj firmy konečně přinese očekávaný výsledek? \n  \n \n  \nCHCETE SE PŘIHLÁSIT? \nKONTAKTUJTE NÁS: \nTEL.: 777 193 831 \nPRIHLASKA@VOX-KURZY.CZ \nnebo objednávejte rovnou ZDE
URL:https://www.cma.cz/akce/hr-chatting-vzdelavat-lidi-nebo-rozvijet-organizaci/
LOCATION:Online
CATEGORIES:Grow & Flow Mastery Class,Klub ČMA Čechy,Kluby,Webinář
ATTACH;FMTTYPE=image/jpeg:https://www.cma.cz/wp-content/uploads/2021/06/manger-tie.jpg
END:VEVENT
END:VCALENDAR