BEGIN:VCALENDAR
VERSION:2.0
PRODID:-//ČESKÁ MANAŽERSKÁ ASOCIACE - ECPv6.15.15//NONSGML v1.0//EN
CALSCALE:GREGORIAN
METHOD:PUBLISH
X-ORIGINAL-URL:https://www.cma.cz
X-WR-CALDESC:Akce na ČESKÁ MANAŽERSKÁ ASOCIACE
REFRESH-INTERVAL;VALUE=DURATION:PT1H
X-Robots-Tag:noindex
X-PUBLISHED-TTL:PT1H
BEGIN:VTIMEZONE
TZID:Europe/Prague
BEGIN:DAYLIGHT
TZOFFSETFROM:+0100
TZOFFSETTO:+0200
TZNAME:CEST
DTSTART:20240331T010000
END:DAYLIGHT
BEGIN:STANDARD
TZOFFSETFROM:+0200
TZOFFSETTO:+0100
TZNAME:CET
DTSTART:20241027T010000
END:STANDARD
BEGIN:DAYLIGHT
TZOFFSETFROM:+0100
TZOFFSETTO:+0200
TZNAME:CEST
DTSTART:20250330T010000
END:DAYLIGHT
BEGIN:STANDARD
TZOFFSETFROM:+0200
TZOFFSETTO:+0100
TZNAME:CET
DTSTART:20251026T010000
END:STANDARD
BEGIN:DAYLIGHT
TZOFFSETFROM:+0100
TZOFFSETTO:+0200
TZNAME:CEST
DTSTART:20260329T010000
END:DAYLIGHT
BEGIN:STANDARD
TZOFFSETFROM:+0200
TZOFFSETTO:+0100
TZNAME:CET
DTSTART:20261025T010000
END:STANDARD
END:VTIMEZONE
BEGIN:VEVENT
DTSTART;TZID=Europe/Prague:20250811T180000
DTEND;TZID=Europe/Prague:20250811T180000
DTSTAMP:20260423T171930
CREATED:20250708T210409Z
LAST-MODIFIED:20250710T075622Z
UID:24796-1754935200-1754935200@www.cma.cz
SUMMARY:Setkání s Kateřinou Vránovou\, Head of CMF Design ve ŠKODA AUTO a.s.
DESCRIPTION:Art Klub České manažerské asociace pořádá setkání a debatu se zajímavou manažerskou osobností z netradiční oblasti života a s neopakovatelnou zkušeností –  manažerku\, která pomáhá vytvářet identitu a styl velké nadnárodní korporace – Kateřinou Vránovou. \n\nTÉMA: Propojení art/design a businessu v sektoru „automotive“\nKDY: 11. 8. 2025 od 18 hodin\nKDE: Konferenční prostory výzkumné firmy IPSOS\, Slovanský dům\, Na Příkopě 22\, Praha 1 (Vchod E je z vnitrobloku Slovanského domu)
URL:https://www.cma.cz/akce/setkani-s-katerinou-vranovou-head-of-cmf-design-ve-skoda-auto-a-s/
LOCATION:Konferenční prostory výzkumné firmy Ipsos\, Slovanský dům\, Na Příkopě 22\, Praha 1 (vchod E je z vnitrobloku)
CATEGORIES:Art Klub ČMA,Kluby
ATTACH;FMTTYPE=image/png:https://www.cma.cz/wp-content/uploads/2025/07/logo_skoda.png
END:VEVENT
BEGIN:VEVENT
DTSTART;TZID=Europe/Prague:20251203T180000
DTEND;TZID=Europe/Prague:20251203T180000
DTSTAMP:20260423T171930
CREATED:20251106T095136Z
LAST-MODIFIED:20251107T111721Z
UID:25285-1764784800-1764784800@www.cma.cz
SUMMARY:Mecenáši v umění
DESCRIPTION:Projekt ART Klubu – České manažerské asociace\, který zve naše členy na komorní setkání a debatu se zajímavými manažerskými osobnostmi z netradiční oblasti života a s neopakovatelnou zkušeností. \nEleonore Kinsky a Anna Pulkertová\nEleonore Kinsky vyrůstala v Praze a po studiích na Francouzském lyceu v Praze a poté muzikologie v Německu\, na heidelberské Ruprechto-Karlově univerzitě\, na Humboldtově univerzitě v Berlíně a ve Spojeném království na londýnské King’s College\, nastoupila v roce 2018 do knížecí nadace Lobkowiczké sbírky/House of Lobkowicz. Působí jako kurátorka a programová manažerka Rodného domu Antonína Dvořáka. \nAnna Pulkertová se specializuje na kurátorství a poradenství v investicích do umění. Roky pracovala jako art manažerka privátní banky a kurátorka bankovní galerie. Nyní se věnuje zejména rozvíjení privátního klubu ART PART CLUB\, který inovativním způsobem zprostředkovává svým členům pohled zblízka do světa umění\, edukaci\, návštěvy ateliéru i možnost frakčního vlastnictví umění. Vystudovala kulturologii\, média i teorii a historii umění\, ve své disertační práci se věnuje sběratelství z pohledu kulturní antropologie. \nPozvánka (PDF)Pozvánka (PDF)
URL:https://www.cma.cz/akce/mecenasi-v-umeni/
LOCATION:Winternitzova vila\, Na Cihlářce 2092/10\, Praha\, 150 00
CATEGORIES:Art Klub ČMA,Kluby
ATTACH;FMTTYPE=image/jpeg:https://www.cma.cz/wp-content/uploads/2025/11/patronky-umeni-dve-zeny-v-maskach-cernobile.jpg
END:VEVENT
END:VCALENDAR