BEGIN:VCALENDAR
VERSION:2.0
PRODID:-//ČESKÁ MANAŽERSKÁ ASOCIACE - ECPv6.15.15//NONSGML v1.0//EN
CALSCALE:GREGORIAN
METHOD:PUBLISH
X-WR-CALNAME:ČESKÁ MANAŽERSKÁ ASOCIACE
X-ORIGINAL-URL:https://www.cma.cz
X-WR-CALDESC:Akce na ČESKÁ MANAŽERSKÁ ASOCIACE
REFRESH-INTERVAL;VALUE=DURATION:PT1H
X-Robots-Tag:noindex
X-PUBLISHED-TTL:PT1H
BEGIN:VTIMEZONE
TZID:Europe/Prague
BEGIN:DAYLIGHT
TZOFFSETFROM:+0100
TZOFFSETTO:+0200
TZNAME:CEST
DTSTART:20240331T010000
END:DAYLIGHT
BEGIN:STANDARD
TZOFFSETFROM:+0200
TZOFFSETTO:+0100
TZNAME:CET
DTSTART:20241027T010000
END:STANDARD
BEGIN:DAYLIGHT
TZOFFSETFROM:+0100
TZOFFSETTO:+0200
TZNAME:CEST
DTSTART:20250330T010000
END:DAYLIGHT
BEGIN:STANDARD
TZOFFSETFROM:+0200
TZOFFSETTO:+0100
TZNAME:CET
DTSTART:20251026T010000
END:STANDARD
BEGIN:DAYLIGHT
TZOFFSETFROM:+0100
TZOFFSETTO:+0200
TZNAME:CEST
DTSTART:20260329T010000
END:DAYLIGHT
BEGIN:STANDARD
TZOFFSETFROM:+0200
TZOFFSETTO:+0100
TZNAME:CET
DTSTART:20261025T010000
END:STANDARD
END:VTIMEZONE
BEGIN:VEVENT
DTSTART;TZID=Europe/Prague:20250610T103000
DTEND;TZID=Europe/Prague:20250610T123000
DTSTAMP:20260423T170925
CREATED:20250529T134157Z
LAST-MODIFIED:20250529T234543Z
UID:24731-1749551400-1749558600@www.cma.cz
SUMMARY:Hledání Manažera roku ve veřejné správě
DESCRIPTION:Zveme Vás v rámci brněnského municipálního veletrhu URBIS na diskusi o zviditelnění obtížné role šéfů úřadů veřejné správy u široké veřejnosti. Ocenění Manažer roku proto pro aktuální ročník zavedlo samostatnou kategorii Manažer roku ve veřejné správě. Kolem kulatého stolu probereme Vaše možnosti a představy\, jak se soutěže zúčastnit\, a co Vám může účast v ní přinést. Česká manažerská asociace nabízí svým členům zdarma také vstupenku na celý veletrh URBIS (3 dny) věnovaný tématu Smart Cities. \nKulatý stůl tajemníků městských a obecních úřadů se uskuteční v úterý 10. června 2025 od 10:30 v rámci veletrhu URBIS v Brně (areál BVV). \nTéma setkání:\n„Hledání Manažera roku ve veřejné správě“ \nDiskuze se zaměří na nově vyhlášenou kategorii soutěže Manažer roku ve veřejné správě\, která si klade za cíl zviditelnit a ocenit náročnou a často nedoceněnou práci vedoucích pracovníků úřadů. Dozvíte se\, jak a proč se do soutěže přihlásit\, jaké výhody a příležitosti účast přináší a jak může pomoci nejen osobnímu rozvoji\, ale i propagaci kvalitní veřejné správy. \nSoučástí setkání bude rovněž představení nově založeného Klubu veřejné správy\, jehož cílem je vytvářet profesní komunitu\, podporovat manažerské dovednosti a propojovat veřejnou správu s byznysem. \n? Pro všechny účastníky máme dárek – ZDARMA vstup na celý třídenní veletrh URBIS (10.–12. 6. 2025)\, zaměřený na chytrá řešení pro města a obce (Smart Cities). \nPROGRAM VELETRHU URBIS ZDE. \nR.S.V.P.: Prosíme o potvrzení účasti na e-mail: grofova@cma.cz. \nÚčastníci Kulatého stolu jsou zváni i na společenský večer.
URL:https://www.cma.cz/akce/hledani-manazera-roku-ve-verejne-sprave/
LOCATION:areál BVV Brno\, sál AGORA\, pavilon A2\, Výstaviště 405/1\, Brno\, 60300
CATEGORIES:Klub veřejné správay,Kluby
ATTACH;FMTTYPE=image/jpeg:https://www.cma.cz/wp-content/uploads/2025/05/jaroslav_brandejs_a_radka_zamlarova.jpg
END:VEVENT
END:VCALENDAR