BEGIN:VCALENDAR
VERSION:2.0
PRODID:-//ČESKÁ MANAŽERSKÁ ASOCIACE - ECPv6.15.15//NONSGML v1.0//EN
CALSCALE:GREGORIAN
METHOD:PUBLISH
X-ORIGINAL-URL:https://www.cma.cz
X-WR-CALDESC:Akce na ČESKÁ MANAŽERSKÁ ASOCIACE
REFRESH-INTERVAL;VALUE=DURATION:PT1H
X-Robots-Tag:noindex
X-PUBLISHED-TTL:PT1H
BEGIN:VTIMEZONE
TZID:Europe/Prague
BEGIN:DAYLIGHT
TZOFFSETFROM:+0100
TZOFFSETTO:+0200
TZNAME:CEST
DTSTART:20240331T010000
END:DAYLIGHT
BEGIN:STANDARD
TZOFFSETFROM:+0200
TZOFFSETTO:+0100
TZNAME:CET
DTSTART:20241027T010000
END:STANDARD
BEGIN:DAYLIGHT
TZOFFSETFROM:+0100
TZOFFSETTO:+0200
TZNAME:CEST
DTSTART:20250330T010000
END:DAYLIGHT
BEGIN:STANDARD
TZOFFSETFROM:+0200
TZOFFSETTO:+0100
TZNAME:CET
DTSTART:20251026T010000
END:STANDARD
BEGIN:DAYLIGHT
TZOFFSETFROM:+0100
TZOFFSETTO:+0200
TZNAME:CEST
DTSTART:20260329T010000
END:DAYLIGHT
BEGIN:STANDARD
TZOFFSETFROM:+0200
TZOFFSETTO:+0100
TZNAME:CET
DTSTART:20261025T010000
END:STANDARD
END:VTIMEZONE
BEGIN:VEVENT
DTSTART;TZID=Europe/Prague:20250506T193000
DTEND;TZID=Europe/Prague:20250506T193000
DTSTAMP:20260423T185333
CREATED:20250529T122933Z
LAST-MODIFIED:20250529T130000Z
UID:24705-1746559800-1746559800@www.cma.cz
SUMMARY:Autorská komentovaná prohlídka Jan Vytiska: Zjevení / Trafo Gallery
DESCRIPTION:Exkluzivní setkání členů ČMA v unikátním výstavním prostoru s významný současným výtvarníkem\, prohlídka výstavy s autorskými postřehy a komentáři\, setkání s mecenáši galerie a debata o podpoře umění nad číší vína. \n\n \nJan Vytiska (*1985) vystudoval Fakultu umění Ostravské univerzity. Jeho malby navazují na specifickou pop-surrealistickou linii současné české malby. Na pozadí streetartové estetiky a v kombinaci s precizní malířskou technikou jsou jeho díla směsicí popkultury\, aktualizovaných prvků venkovské mytologi a folklóru\, který se postupně překlápí do polohy trashového fantasy s prvky antropologických reflexí. Vymyšlené antropomorfní příšery se jako přízraky vynořují ze snových insitních světů prastarých společenství. \nTrafo Gallery je soukromá výstavní síň v prostorách bývalých jatek Haly 14 Holešovické tržnice\, která od roku 2006 zastupuje výrazné umělce nejen z generace svých zakladatelů. Roku 2024 byla Trafo Gallery zvolena Českou akademií vizuálních umění Galerií roku.\n \n  \nVáclav Janoušek\npředseda Art klubu ČMA \nDavid Šimoník\nvýkonný ředitel ČMA
URL:https://www.cma.cz/akce/autorska-komentovana-prohlidka-jan-vytiska-zjeveni-trafo-gallery/
LOCATION:Trafo Gallery\, Bubenské nábřeží 306/13\, Hala 14\, Praha
CATEGORIES:Art Klub ČMA,Kluby
ATTACH;FMTTYPE=image/jpeg:https://www.cma.cz/wp-content/uploads/2025/05/Manazeri-na-vystave-Jana-Vytisky-v-Trafo-Gallery.jpg
END:VEVENT
END:VCALENDAR