BEGIN:VCALENDAR
VERSION:2.0
PRODID:-//ČESKÁ MANAŽERSKÁ ASOCIACE - ECPv6.15.15//NONSGML v1.0//EN
CALSCALE:GREGORIAN
METHOD:PUBLISH
X-ORIGINAL-URL:https://www.cma.cz
X-WR-CALDESC:Akce na ČESKÁ MANAŽERSKÁ ASOCIACE
REFRESH-INTERVAL;VALUE=DURATION:PT1H
X-Robots-Tag:noindex
X-PUBLISHED-TTL:PT1H
BEGIN:VTIMEZONE
TZID:Europe/Prague
BEGIN:DAYLIGHT
TZOFFSETFROM:+0100
TZOFFSETTO:+0200
TZNAME:CEST
DTSTART:20250330T010000
END:DAYLIGHT
BEGIN:STANDARD
TZOFFSETFROM:+0200
TZOFFSETTO:+0100
TZNAME:CET
DTSTART:20251026T010000
END:STANDARD
BEGIN:DAYLIGHT
TZOFFSETFROM:+0100
TZOFFSETTO:+0200
TZNAME:CEST
DTSTART:20260329T010000
END:DAYLIGHT
BEGIN:STANDARD
TZOFFSETFROM:+0200
TZOFFSETTO:+0100
TZNAME:CET
DTSTART:20261025T010000
END:STANDARD
BEGIN:DAYLIGHT
TZOFFSETFROM:+0100
TZOFFSETTO:+0200
TZNAME:CEST
DTSTART:20270328T010000
END:DAYLIGHT
BEGIN:STANDARD
TZOFFSETFROM:+0200
TZOFFSETTO:+0100
TZNAME:CET
DTSTART:20271031T010000
END:STANDARD
END:VTIMEZONE
BEGIN:VEVENT
DTSTART;TZID=Europe/Prague:20260416T130000
DTEND;TZID=Europe/Prague:20260416T130000
DTSTAMP:20260421T035435
CREATED:20260210T112536Z
LAST-MODIFIED:20260210T112536Z
UID:25928-1776344400-1776344400@www.cma.cz
SUMMARY:Exkurze do firmy BAUMIT
DESCRIPTION:Exkurze do firmy BAUMIT k absolutnímu vítězi soutěže Manažer roku – Pavlu Medovi \nZveme vás do společnosti BAUMIT – k absolutnímu vítězi prestižního ocenění Manažer roku. \nPřijďte na vlastní oči poznat\, jak přemýšlí a řídí firmu ten nejlepší z nejlepších. \nNahlédněte do prostředí\, kde vznikají vítězné strategie\, kde se potkává výkon\, kultura i inspirativní pracovní zázemí. \nČeká vás moderní sídlo oceněné za architekturu titulem Stavba roku 2023\, velkorysé atrium–zahrada\, na které je vedení právem hrdé\, i zázemí podporující špičkovou spolupráci týmu. \nSetkání je určeno členům poroty Manažer roku a členům Česká manažerská asociace v C-level pozicích. \nR.S.V.P.: barvova@cma.cz \nPozvánka (PDF)
URL:https://www.cma.cz/akce/exkurze-do-firmy-baumit/
LOCATION:BAUMIT\, spol. s r.o.\, Průmyslová 1841\, Brandýs nad Labem\, 25001
CATEGORIES:Akce ČMA,Exkurze
ATTACH;FMTTYPE=image/jpeg:https://www.cma.cz/wp-content/uploads/2026/02/pavel_baumit.jpg
END:VEVENT
BEGIN:VEVENT
DTSTART;TZID=Europe/Prague:20260514T110000
DTEND;TZID=Europe/Prague:20260514T133000
DTSTAMP:20260421T035435
CREATED:20260203T091015Z
LAST-MODIFIED:20260211T080650Z
UID:25850-1778756400-1778765400@www.cma.cz
SUMMARY:Exkurze do Granát Turnov
DESCRIPTION:Finanční ředitelka společnosti Granát Turnov – Eva Stodůlková Vás srdečně zve na exkurzi do šperkařské dílny tradičního turnovského družstva. \nPod jejím vedením stojí vysoce profesionální manažerské a finanční řízení firmy\, které přispělo k jejímu ocenění – stala se finalistkou soutěže Manažer roku. Návštěva Vám tak nabídne nejen pohled do výroby\, ale i inspiraci z prostředí stabilní a úspěšné společnosti. \nPřijďte se na vlastní oči přesvědčit\, že i v době nejmodernějších technologií zůstává výroba granátových šperků především poctivou ruční uměleckou prací zlatníků. Družstvo dlouhodobě udává trend designu i finální podoby šperku a pracuje s unikátním českým drahokamem – pravým českým granátem\, který nikde jinde na světě nenajdete. \nR.S.V.P: barvova@cma.cz \nPozvánka (PDF)
URL:https://www.cma.cz/akce/exkurze-do-granat-turnov/
LOCATION:Granát\, družstvo umělecké výroby\, Turnov\, Výšinka 1409\, Turnov\, 511 01
CATEGORIES:Akce ČMA,Exkurze
ATTACH;FMTTYPE=image/jpeg:https://www.cma.cz/wp-content/uploads/2026/02/granat-obraz.jpg
END:VEVENT
END:VCALENDAR