BEGIN:VCALENDAR
VERSION:2.0
PRODID:-//ČESKÁ MANAŽERSKÁ ASOCIACE - ECPv6.15.15//NONSGML v1.0//EN
CALSCALE:GREGORIAN
METHOD:PUBLISH
X-WR-CALNAME:ČESKÁ MANAŽERSKÁ ASOCIACE
X-ORIGINAL-URL:https://www.cma.cz
X-WR-CALDESC:Akce na ČESKÁ MANAŽERSKÁ ASOCIACE
REFRESH-INTERVAL;VALUE=DURATION:PT1H
X-Robots-Tag:noindex
X-PUBLISHED-TTL:PT1H
BEGIN:VTIMEZONE
TZID:Europe/Prague
BEGIN:DAYLIGHT
TZOFFSETFROM:+0100
TZOFFSETTO:+0200
TZNAME:CEST
DTSTART:20230326T010000
END:DAYLIGHT
BEGIN:STANDARD
TZOFFSETFROM:+0200
TZOFFSETTO:+0100
TZNAME:CET
DTSTART:20231029T010000
END:STANDARD
BEGIN:DAYLIGHT
TZOFFSETFROM:+0100
TZOFFSETTO:+0200
TZNAME:CEST
DTSTART:20240331T010000
END:DAYLIGHT
BEGIN:STANDARD
TZOFFSETFROM:+0200
TZOFFSETTO:+0100
TZNAME:CET
DTSTART:20241027T010000
END:STANDARD
BEGIN:DAYLIGHT
TZOFFSETFROM:+0100
TZOFFSETTO:+0200
TZNAME:CEST
DTSTART:20250330T010000
END:DAYLIGHT
BEGIN:STANDARD
TZOFFSETFROM:+0200
TZOFFSETTO:+0100
TZNAME:CET
DTSTART:20251026T010000
END:STANDARD
END:VTIMEZONE
BEGIN:VEVENT
DTSTART;TZID=Europe/Prague:20241211T170000
DTEND;TZID=Europe/Prague:20241211T170000
DTSTAMP:20260421T064634
CREATED:20241118T103131Z
LAST-MODIFIED:20250218T170035Z
UID:23709-1733936400-1733936400@www.cma.cz
SUMMARY:Setkání s degustací vín ve vinařství Gotberg
DESCRIPTION:Regionální klub Morava České manažerské asociace vás zve na Setkání s degustací vín ve vinařství Gotberg. \nSvou účast potvrďte do 05.12.2024 na email: nociarova@cma.cz \nPozvánka (PDF)Pozvánka (PDF)
URL:https://www.cma.cz/akce/setkani-s-degustaci-vin-ve-vinarstvi-gotberg/
LOCATION:Vinařství Gotberg\, U Sadu 394\, Popice\, 69127
CATEGORIES:Akce ČMA,ČMA Regionální klub Morava,Kluby
ATTACH;FMTTYPE=image/jpeg:https://www.cma.cz/wp-content/uploads/2024/11/vinarstvi_gotberg.jpg
END:VEVENT
BEGIN:VEVENT
DTSTART;TZID=Europe/Prague:20241128T170000
DTEND;TZID=Europe/Prague:20241128T170000
DTSTAMP:20260421T064634
CREATED:20241127T060026Z
LAST-MODIFIED:20241126T124617Z
UID:23785-1732813200-1732813200@www.cma.cz
SUMMARY:AI ve firmách z pohledu práva
DESCRIPTION:Česká manažerská asociace pro Vás ve spolupráci s naším členem ARROWS advokátní kanceláří pořádá praktický workshop\, na kterém se dozvíte cenné informace o využití umělé inteligence. Workshop je navržen tak\, aby poskytl manažerům\, CEO a vedoucím firem praktický přehled o aktuálních trendech v oblasti AI a ukázal konkrétní příklady její efektivní implementace do firemních procesů. \nNebojte se jednoduše zaregistrovat a dorazit za námi na Smíchov! \n\nKDY: čtvrtek 28. listopadu od 17 hodin\nKDE: budova SmichOFF\, 8. patro\, Plzeňská 3350/18\, Praha\n\nREGISTRACEREGISTRACE
URL:https://www.cma.cz/akce/ai-ve-firmach-z-pohledu-prava/
LOCATION:SmichOFF\, Plzeňská 3350/18\, Praha
CATEGORIES:Akce ČMA
ATTACH;FMTTYPE=image/jpeg:https://www.cma.cz/wp-content/uploads/2024/11/Ilustracka-k-workshopu-o-AI.jpg
END:VEVENT
BEGIN:VEVENT
DTSTART;TZID=Europe/Prague:20241127T170000
DTEND;TZID=Europe/Prague:20241127T170000
DTSTAMP:20260421T064634
CREATED:20241126T114558Z
LAST-MODIFIED:20241126T114746Z
UID:23768-1732726800-1732726800@www.cma.cz
SUMMARY:Bleskový šachový turnaj
DESCRIPTION:Pozor – bleskový šachový turnaj už zítra!\nSpolek pro vědu a výzkum společně s Českou manažerskou asociací zve všechny milovníky královské hry na bleskový šachový turnaj VIP\, který se bude konat již zítra 27. listopadu od 17:00 v hotelu JULIŠ na Václavském náměstí 22. \nVšichni jste srdečně zváni ať už jako diváci-šachový fanoušci\, nebo se utkáte o tajnou cenu vítěze! \nPozvánka (PDF)Pozvánka (PDF)
URL:https://www.cma.cz/akce/bleskovy-sachovy-turnaj/
LOCATION:Hotel JULIŠ\, Václavském náměstí 22\, Praha\, 11000
CATEGORIES:Akce ČMA,Šachový turnaj
ATTACH;FMTTYPE=image/jpeg:https://www.cma.cz/wp-content/uploads/2024/11/sachovy_turnaj.jpg
END:VEVENT
BEGIN:VEVENT
DTSTART;TZID=Europe/Prague:20240919T100000
DTEND;TZID=Europe/Prague:20240919T110000
DTSTAMP:20260421T064634
CREATED:20240829T103518Z
LAST-MODIFIED:20241110T134542Z
UID:22555-1726740000-1726743600@www.cma.cz
SUMMARY:Svěřenské fondy: Moderní nástroj pro správu a ochranu majetku
DESCRIPTION:Předání (rodinného) majetku je nedílnou součástí životakaždého z nás a je jeho zcela přirozenou fází. Jak jej však předat\, aby byli všichni spokojeni a byla naplněna vzájemná očekávání? Jednou z možnosti předání majetku je využití institutu svěřenského fondu\, který neustále v čase nabývá na důležitosti a stává se pro jednotlivce dostupnější. \nO tomto nástroji a jeho využití bude hovořit JUDr. Barbora Kořenářová\, advokátka. \nHarmonogram workshopu:\n\nCo je to svěřenský fond\, jak funguje\, jeho založení a zánik.\nKdy je můžeme využít a jaké jsou jeho výhody / nevýhody?\nStruktura fondu a jeho účel.\nStatut svěřenského fondu\, zakladatel\, správce.\nJak by měl fungovat?\nJaké jsou praktické dopady fondů?\n\nLektor:\nJUDr. Barbora Kořenářová – advokátka trvale spolupracující s advokátní kanceláří ARROWS ETL Global. Specializuje se na problematiku svěřenských fondů\, kde poskytuje komplexní právní poradenství od založení fondu\, přes jeho správu až po řešení právních sporů souvisejících s jeho fungováním. Dále se věnuje rodinnému\, stavebnímu\, přestupkovému a pracovnímu právu. \nPřipojení:\nPokud se chcete účastnit on-line\, podrobnější informace o připojení se k webináři obdržíte na Vámi zadanou e-mailovou adresu po vyplnění a odeslání níže uvedené přihlášky. Po technické stránce není potřebné žádné zvláštní vybavení\, zcela postačí běžný počítač s prohlížečem a zvukovým výstupem (reproduktory/sluchátka)\, případně zabudovaným mikrofonem. Uveďte prosím\, zda se chcete účastnit osobně\, či on-line. \nKontakt/dotazy:\nTereza Cingelová\, cingelova@arws.cz\, tel.770 115 000. \nCena workshopu:\nZdarma. \nVýhrada účasti:\nAkce není určena pro poradce\, či osoby pracující\, či podnikající v poradenství. Změna zúčastněných osob vyhrazena. \nPozvánka (PDF)Pozvánka (PDF)
URL:https://www.cma.cz/akce/sverenske-fondy-moderni-nastroj-prospravu-a-ochranu-majetku/
LOCATION:Online
CATEGORIES:Akce ČMA,Workshop
ATTACH;FMTTYPE=image/jpeg:https://www.cma.cz/wp-content/uploads/2024/08/rodiny_majetek.jpg
END:VEVENT
BEGIN:VEVENT
DTSTART;TZID=Europe/Prague:20240917T130000
DTEND;TZID=Europe/Prague:20240917T130000
DTSTAMP:20260421T064634
CREATED:20240813T142317Z
LAST-MODIFIED:20241110T133226Z
UID:21176-1726578000-1726578000@www.cma.cz
SUMMARY:Ekologické trendy a prognózy
DESCRIPTION:Ve spolupráci se spolkem pro vědu a výzkum vás zveme na mezinárodní ekologIckou konferenci: Ekologické trendy a prognózy \nÚčastníci a jejich příspěvky\n\nJ.F.Potužník\, „Svět pro 5\, 10\, nebo 20 miliard lidí?“\nDávid Jurík\, “Vliv designu\, filmu a her na ekologii“\nVladimír Kremlík\, „Nízkoemisní pohony na železnici“\nPavel Podruh\, „Soběstačný dům“\nViktor Harnach\, „Ekologická a ekonomická udržitelnost zemědělských pozemků a jejich přínos pro investory“\nJan Hrebabecký\, “3D tisk z oceánského odpadu“\nPavel Čumpelik\, „Sklo vytváří jasnější budoucnost“\nBohumír Štědroň\, „Prognóza vývoje AI\, uhlíková stopa a nová legislativa“\nMiroslav Svítek.\, „Umělá inteligence a udržitelný rozvoj“\nDušan Kalášek\, „Vzdělávací a prognostické výzvy v kritické infrastruktuře a ekologii“\nJiří Navrátil\, „Digitalizace společnosti jako nový aspekt ekologie“\nJan Mládek\, „Budoucnost české energetiky“\nJiří Michalička\, „Pralesy“\nLino Briguglio (spolunositel Nobelovy ceny\, Malta)\, „Environmentální a sociální negativa masového cestovního ruchu“\n\nKonferenci zahájí:\nZástupce České manažerské asociace\nProděkan pro strategii FD ČVUT prof. Ing. Miroslav Svítek\, Ph.D.\, prezident\nSpolku pro vědu a výzkum \nKřest nové knihy „Umělá inteligence a právo“\n(Štědroň\, Svítek\, Navrátil\, Kalášek aj.)\nnakladatelství Aleš Čeněk \nOrganizační výbor:\n\nMiroslav Svítek\, předseda a proděkan pro strategii FD ČVUT\nOtto Pastor\, místopředseda\nJ. F. Potužník\, místopředseda\nVladimír Kremlík\nPetr Beneš\nSaša Navrátilová\n\nProgramový výbor:\n\nBohumír Štědroň\, předseda\nOtto Pastor\, místopředseda\nLuděk Nezmar\, místopředseda\nJ. F. Potužník\, místopředseda\nMichael Kroh\nMarcela Palíšková\nDušan Kalášek\nPetr Beneš\n\nSvou účast\, prosím\, potvrďte na email: stedron@seznam.cz \nPozvánka (PDF)Pozvánka (PDF)
URL:https://www.cma.cz/akce/ekologicke-trendy-a-prognozy/
LOCATION:Fakulta dopravní ČVUT (místnost B005)\, Horská 3\, Praha 2
CATEGORIES:Akce ČMA,Kluby,Konference,Prognostický klub
ATTACH;FMTTYPE=image/jpeg:https://www.cma.cz/wp-content/uploads/2024/08/ekologie2.jpg
END:VEVENT
BEGIN:VEVENT
DTSTART;TZID=Europe/Prague:20240829T080000
DTEND;TZID=Europe/Prague:20240829T170000
DTSTAMP:20260421T064634
CREATED:20231120T105534Z
LAST-MODIFIED:20250129T194610Z
UID:22537-1724918400-1724950800@www.cma.cz
SUMMARY:Předvánoční setkání RK SV Čechy
DESCRIPTION:
URL:https://www.cma.cz/akce/predvanocni-setkani-rk-sv-cechy/
LOCATION:Cassa del Prosecco\, Velké náměstí 137\, Hradec Králové
CATEGORIES:Akce ČMA,Klub ČMA Čechy,Kluby,Setkání
ATTACH;FMTTYPE=image/jpeg:https://www.cma.cz/wp-content/uploads/2023/11/zachyceni-webu_20-11-2023_93112_www.casadelprosecco.cz_.jpeg
END:VEVENT
BEGIN:VEVENT
DTSTART;TZID=Europe/Prague:20240828T160000
DTEND;TZID=Europe/Prague:20240828T180000
DTSTAMP:20260421T064634
CREATED:20240115T142347Z
LAST-MODIFIED:20241110T133155Z
UID:22496-1724860800-1724868000@www.cma.cz
SUMMARY:Jak prokázat hodnotu facility služby
DESCRIPTION:Plakát v PDFPlakát v PDF
URL:https://www.cma.cz/akce/jak-prokazat-hodnotu-facility-sluzby/
LOCATION:Le Palais Art Hotel Prague\, U Zvonařky 1\, Praha 2\, 120 00
CATEGORIES:Akce ČMA,Klub Facility Manažerů,Kluby,Seminář
ATTACH;FMTTYPE=image/jpeg:https://www.cma.cz/wp-content/uploads/2023/06/facility-management-software-1-1.jpg
END:VEVENT
BEGIN:VEVENT
DTSTART;TZID=Europe/Prague:20240516T160000
DTEND;TZID=Europe/Prague:20240516T180000
DTSTAMP:20260421T064634
CREATED:20240425T085726Z
LAST-MODIFIED:20250129T194339Z
UID:22431-1715875200-1715882400@www.cma.cz
SUMMARY:Chraňte své srdce včas! Aktivní prevence pro manažery
DESCRIPTION:Unikátní setkání s věhlasným kardiologem\nRacionální strava a správný pitný režim jsou základními předpoklady pro prevenci nemocí srdce i cév. Jaká jsou další doporučení a čím svému srdci prospět i při náročné práci manažera? \nProf. Miloš Táborský\, M.D.\, Ph.D.\, FESC\, FACC\, MBA\nČeský kardiolog specializující se především na poruchy srdečního rytmu. Od roku 2009 je přednostou I. interní kardiologické kliniky FN Olomouc a pedagogem na Lékařské fakultě Univerzity Palackého. \nSoučástí akce bude i degustace prémiových vín společnosti Simply Wines. \nKapacity jsou omezené\, zavčas proto prosím potvrďte svou účast\, a to do 10. května na e-mail: senvajc@cma.cz \nPozvánka (PDF)Pozvánka (PDF)
URL:https://www.cma.cz/akce/chrante-sve-srdce-vcas-aktivni-prevence-pro-manazery/
LOCATION:Le Palais Art Hotel Prague\, U Zvonařky 1\, Praha 2\, 120 00
CATEGORIES:Akce ČMA,Klub ČMA Čechy,Kluby,Setkání
ATTACH;FMTTYPE=image/jpeg:https://www.cma.cz/wp-content/uploads/2024/04/chrante_sve_srdce_v_cas.jpg
END:VEVENT
END:VCALENDAR