BEGIN:VCALENDAR
VERSION:2.0
PRODID:-//ČESKÁ MANAŽERSKÁ ASOCIACE - ECPv6.15.15//NONSGML v1.0//EN
CALSCALE:GREGORIAN
METHOD:PUBLISH
X-WR-CALNAME:ČESKÁ MANAŽERSKÁ ASOCIACE
X-ORIGINAL-URL:https://www.cma.cz
X-WR-CALDESC:Akce na ČESKÁ MANAŽERSKÁ ASOCIACE
REFRESH-INTERVAL;VALUE=DURATION:PT1H
X-Robots-Tag:noindex
X-PUBLISHED-TTL:PT1H
BEGIN:VTIMEZONE
TZID:Europe/Prague
BEGIN:DAYLIGHT
TZOFFSETFROM:+0100
TZOFFSETTO:+0200
TZNAME:CEST
DTSTART:20230326T010000
END:DAYLIGHT
BEGIN:STANDARD
TZOFFSETFROM:+0200
TZOFFSETTO:+0100
TZNAME:CET
DTSTART:20231029T010000
END:STANDARD
BEGIN:DAYLIGHT
TZOFFSETFROM:+0100
TZOFFSETTO:+0200
TZNAME:CEST
DTSTART:20240331T010000
END:DAYLIGHT
BEGIN:STANDARD
TZOFFSETFROM:+0200
TZOFFSETTO:+0100
TZNAME:CET
DTSTART:20241027T010000
END:STANDARD
BEGIN:DAYLIGHT
TZOFFSETFROM:+0100
TZOFFSETTO:+0200
TZNAME:CEST
DTSTART:20250330T010000
END:DAYLIGHT
BEGIN:STANDARD
TZOFFSETFROM:+0200
TZOFFSETTO:+0100
TZNAME:CET
DTSTART:20251026T010000
END:STANDARD
END:VTIMEZONE
BEGIN:VEVENT
DTSTART;TZID=Europe/Prague:20240828T160000
DTEND;TZID=Europe/Prague:20240828T180000
DTSTAMP:20260421T064706
CREATED:20240115T142347Z
LAST-MODIFIED:20241110T133155Z
UID:22496-1724860800-1724868000@www.cma.cz
SUMMARY:Jak prokázat hodnotu facility služby
DESCRIPTION:Plakát v PDFPlakát v PDF
URL:https://www.cma.cz/akce/jak-prokazat-hodnotu-facility-sluzby/
LOCATION:Le Palais Art Hotel Prague\, U Zvonařky 1\, Praha 2\, 120 00
CATEGORIES:Akce ČMA,Klub Facility Manažerů,Kluby,Seminář
ATTACH;FMTTYPE=image/jpeg:https://www.cma.cz/wp-content/uploads/2023/06/facility-management-software-1-1.jpg
END:VEVENT
BEGIN:VEVENT
DTSTART;TZID=Europe/Prague:20240516T160000
DTEND;TZID=Europe/Prague:20240516T180000
DTSTAMP:20260421T064706
CREATED:20240425T085726Z
LAST-MODIFIED:20250129T194339Z
UID:22431-1715875200-1715882400@www.cma.cz
SUMMARY:Chraňte své srdce včas! Aktivní prevence pro manažery
DESCRIPTION:Unikátní setkání s věhlasným kardiologem\nRacionální strava a správný pitný režim jsou základními předpoklady pro prevenci nemocí srdce i cév. Jaká jsou další doporučení a čím svému srdci prospět i při náročné práci manažera? \nProf. Miloš Táborský\, M.D.\, Ph.D.\, FESC\, FACC\, MBA\nČeský kardiolog specializující se především na poruchy srdečního rytmu. Od roku 2009 je přednostou I. interní kardiologické kliniky FN Olomouc a pedagogem na Lékařské fakultě Univerzity Palackého. \nSoučástí akce bude i degustace prémiových vín společnosti Simply Wines. \nKapacity jsou omezené\, zavčas proto prosím potvrďte svou účast\, a to do 10. května na e-mail: senvajc@cma.cz \nPozvánka (PDF)Pozvánka (PDF)
URL:https://www.cma.cz/akce/chrante-sve-srdce-vcas-aktivni-prevence-pro-manazery/
LOCATION:Le Palais Art Hotel Prague\, U Zvonařky 1\, Praha 2\, 120 00
CATEGORIES:Akce ČMA,Klub ČMA Čechy,Kluby,Setkání
ATTACH;FMTTYPE=image/jpeg:https://www.cma.cz/wp-content/uploads/2024/04/chrante_sve_srdce_v_cas.jpg
END:VEVENT
END:VCALENDAR