BEGIN:VCALENDAR
VERSION:2.0
PRODID:-//ČESKÁ MANAŽERSKÁ ASOCIACE - ECPv6.15.15//NONSGML v1.0//EN
CALSCALE:GREGORIAN
METHOD:PUBLISH
X-WR-CALNAME:ČESKÁ MANAŽERSKÁ ASOCIACE
X-ORIGINAL-URL:https://www.cma.cz
X-WR-CALDESC:Akce na ČESKÁ MANAŽERSKÁ ASOCIACE
REFRESH-INTERVAL;VALUE=DURATION:PT1H
X-Robots-Tag:noindex
X-PUBLISHED-TTL:PT1H
BEGIN:VTIMEZONE
TZID:Europe/Prague
BEGIN:DAYLIGHT
TZOFFSETFROM:+0100
TZOFFSETTO:+0200
TZNAME:CEST
DTSTART:20250330T010000
END:DAYLIGHT
BEGIN:STANDARD
TZOFFSETFROM:+0200
TZOFFSETTO:+0100
TZNAME:CET
DTSTART:20251026T010000
END:STANDARD
BEGIN:DAYLIGHT
TZOFFSETFROM:+0100
TZOFFSETTO:+0200
TZNAME:CEST
DTSTART:20260329T010000
END:DAYLIGHT
BEGIN:STANDARD
TZOFFSETFROM:+0200
TZOFFSETTO:+0100
TZNAME:CET
DTSTART:20261025T010000
END:STANDARD
BEGIN:DAYLIGHT
TZOFFSETFROM:+0100
TZOFFSETTO:+0200
TZNAME:CEST
DTSTART:20270328T010000
END:DAYLIGHT
BEGIN:STANDARD
TZOFFSETFROM:+0200
TZOFFSETTO:+0100
TZNAME:CET
DTSTART:20271031T010000
END:STANDARD
END:VTIMEZONE
BEGIN:VEVENT
DTSTART;TZID=Europe/Prague:20260522T140000
DTEND;TZID=Europe/Prague:20260522T173000
DTSTAMP:20260421T035313
CREATED:20260218T133250Z
LAST-MODIFIED:20260218T204421Z
UID:25993-1779458400-1779471000@www.cma.cz
SUMMARY:Exkurze do firmy Thermo Fisher Scientific
DESCRIPTION:Thermo Fisher Scientific zve finalisty soutěže Manažer roku\, členy Hodnotící komise a také členy ČMA na neformální setkání\, kde rádi představí společnost\, firemní kulturu a vezmou nás do čistých výrobních prostor\, v nichž vznikají špičkové elektronové mikroskopy a spektrometry za miliony dolarů. \nR.S.V.P.: barvova@cma.cz \nPozvánka (PDF)
URL:https://www.cma.cz/akce/exkurze-do-firmy-thermo-fisher-scientific/
LOCATION:Thermo Fisher Scientific Brno s.r.o.\, Vlastimila Pecha 1282/12\, Brno-Černovice\, 62700
CATEGORIES:Akce ČMA
ATTACH;FMTTYPE=image/jpeg:https://www.cma.cz/wp-content/uploads/2026/02/laborator.jpg
END:VEVENT
BEGIN:VEVENT
DTSTART;TZID=Europe/Prague:20260528T173000
DTEND;TZID=Europe/Prague:20260528T200000
DTSTAMP:20260421T035313
CREATED:20260410T093316Z
LAST-MODIFIED:20260410T151759Z
UID:26274-1779989400-1779998400@www.cma.cz
SUMMARY:Workshop: Řízení společnosti bez zbytečných rizik
DESCRIPTION:Vážení členové České manažerské asociace. \nRádi bychom Vás pozvali na další společné setkání\, tentokrát na téma Řízení společnosti bez zbytečných rizik. \nS Karlem Ryšavým\, senior advokátem poradenské skupiny SAMAK\, budeme diskutovat o následujících tématech: \nPozice manažera / člena managementu\n\nPostavení manažera – zaměstnanec / vedoucí zaměstnanec / člen statutárního orgánu.\nSouběh funkcí – kdy je legální a jak jej správně nastavit.\nSmlouvy s manažery a odměňování.\nZapojení manažerů do vlastnické struktury.\n\nVýkon funkce\, odpovědnost a náhrada škody\n\nPéče řádného hospodáře: Kdy končí podnikatelské riziko a začíná osobní odpovědnost?\nPravidlo podnikatelského úsudku (business judgement rule) v praxi českých soudů.\nStřet zájmů\, transakce se spřízněnými osobami.\nRozhodování v koncernu.\nPřímá odpovědnost manažera za škodu společnosti.\n\nAktuální výzvy pro manažery (ve světě práva)\n\nInspekce práce: Jak postupovat při kontrole.\nŠvarcsystém: Kde jsou hranice legální spolupráce s OSVČ.\nNIS2: Co musí vědět každý manažer o kybernetické bezpečnosti své firmy.\nRučení za daně: Osobní majetek manažera v hledáčku finančního úřadu.\n\n  \nR.S.V.P.: barvova@cma.cz \nPozvánka (PDF)
URL:https://www.cma.cz/akce/workshop-rizeni-spolecnosti-bez-zbytecnych-rizik/
LOCATION:WorkLounge Příkopy\, Panská 854\, Na Příkopě 14/2\, Praha 1\, 11000
CATEGORIES:Akce ČMA
ATTACH;FMTTYPE=image/jpeg:https://www.cma.cz/wp-content/uploads/2026/04/karel-rysavy.jpg
END:VEVENT
BEGIN:VEVENT
DTSTART;TZID=Europe/Prague:20260528T180000
DTEND;TZID=Europe/Prague:20260528T180000
DTSTAMP:20260421T035313
CREATED:20260213T094435Z
LAST-MODIFIED:20260213T094435Z
UID:25945-1779991200-1779991200@www.cma.cz
SUMMARY:Manažerská rozhodnutí bez zbytečných rizik
DESCRIPTION:Podrobnější informace se připravují. \nR.S.V.P.: barvova@cma.cz
URL:https://www.cma.cz/akce/manazerska-rozhodnuti-bez-zbytecnych-rizik/
LOCATION:WorkLounge Příkopy\, Panská 854\, Na Příkopě 14/2\, Praha 1\, 11000
CATEGORIES:Akce ČMA
ATTACH;FMTTYPE=image/jpeg:https://www.cma.cz/wp-content/uploads/2026/02/manazer-strom-skaly.jpg
END:VEVENT
BEGIN:VEVENT
DTSTART;TZID=Europe/Prague:20260604T180000
DTEND;TZID=Europe/Prague:20260604T180000
DTSTAMP:20260421T035313
CREATED:20260410T101019Z
LAST-MODIFIED:20260416T191019Z
UID:26295-1780596000-1780596000@www.cma.cz
SUMMARY:Manažerské etudy: Na hraně - Když výkon začne ničit výkon.
DESCRIPTION:Kde se výkon láme a začíná vyhoření?\nHostem bude Lukáš Víšek\, Ředitel produktového řízení a strategie společnosti ERA.a.s. \nProvede nás svým příběhem\, kdy se dostal do bodu kdy už věděl\, že nemůže dál. Na chvíli zmizel\, aby se mohl vrátit. Týdenní pobyt ve tmě byl zlomem a začátkem jeho zásadní změny v leadershipu i profesním nastavení. \nTěšíme se na Vás\, prosíme jen o potvrzení účasti na e-mail: barvova@cma.cz \nPozvánka (PDF)
URL:https://www.cma.cz/akce/manazerske-etudy-na-hrane-kdyz-vykon-zacne-nicit-vykon/
LOCATION:Galen clinic\, Benešovská 1922/2\, Praha 10\, 10100
CATEGORIES:Akce ČMA,Klub ČMA Čechy,Kluby
ATTACH;FMTTYPE=image/jpeg:https://www.cma.cz/wp-content/uploads/2026/04/era-lukas-visek.jpg
END:VEVENT
BEGIN:VEVENT
DTSTART;TZID=Europe/Prague:20260617T100000
DTEND;TZID=Europe/Prague:20260617T170000
DTSTAMP:20260421T035313
CREATED:20260330T171315Z
LAST-MODIFIED:20260330T172242Z
UID:26238-1781690400-1781715600@www.cma.cz
SUMMARY:Exkurze do firmy KVADOS
DESCRIPTION:Robotizace skladů a zefektivnění manažerské práce\nZveme vás do společnosti KVADOS\, a.s. na představení automatizace skladů do ShowRoom v průmyslově – logistickém areálu. \nProhlídka bude trvat cca 1\,5 hodiny a bude představen jednak provoz automatizovaného skladu pro distribuci B2C zásilek pro e-shopy a jednak ukázky robotizované manipulace s paletami\, kartony i zbožím. V ShowRoom je jedna z nejvyšších koncentrací typu logistických robotů v Evropě a věříme\, že to bude pro účastníky inspirující. \nNa setkání vás osobně zve Miroslav Hampel\, CEO and Chairman of the Board KVADOS\, a.s. a finalista soutěže Manažer roku 2024. \nSoučástí setkání bude prostor pro neformální networking. \nREGISTRACE \nPozvánka (PDF)
URL:https://www.cma.cz/akce/exkurze-do-firmy-kvados/
LOCATION:ShowRoom KVADOS\, Kirilovova 181\, Paskov\, 739 21
CATEGORIES:Akce ČMA
ATTACH;FMTTYPE=image/jpeg:https://www.cma.cz/wp-content/uploads/2026/03/automatizace-skladu-kvados.jpg
END:VEVENT
BEGIN:VEVENT
DTSTART;TZID=Europe/Prague:20260701T110000
DTEND;TZID=Europe/Prague:20260701T110000
DTSTAMP:20260421T035313
CREATED:20260313T143853Z
LAST-MODIFIED:20260313T144959Z
UID:26107-1782903600-1782903600@www.cma.cz
SUMMARY:Exkurze do firmy UNICO MODULAR
DESCRIPTION:Lukáš Rudy | UNICO MODULAR a.s. zve finalisty soutěže Manažer roku\, členy Hodnotící komise a také členy ČMA na neformální setkání\, kde představí společnost\, její firemní kulturu a provede nás výrobními prostory\, v nichž vznikají moderní modulární stavby využívané v průmyslu\, veřejném sektoru i komerčních projektech. \nProgram:\n\nPředstavení našeho technologického hubu\nProhlídka vybraných částí výroby a seznámení s naší pracovní kulturou\nSpolečný oběd a neformální networking\nKrátký inspirativní / edukativní blok\n\n  \nTěšíme se na Vás\, prosíme jen o potvrzení účasti na e-mail: barvova@cma.cz \nPozvánka (PDF)
URL:https://www.cma.cz/akce/exkurze-do-firmy-unico-modular/
LOCATION:UNICO MODULAR a.s.\, Nádražní 1136\, Vizovice\, 76312
CATEGORIES:Akce ČMA
ATTACH;FMTTYPE=image/jpeg:https://www.cma.cz/wp-content/uploads/2026/03/foto_Lukas_Rudy.jpg
END:VEVENT
BEGIN:VEVENT
DTSTART;VALUE=DATE:20261125
DTEND;VALUE=DATE:20261126
DTSTAMP:20260421T035313
CREATED:20260409T120244Z
LAST-MODIFIED:20260409T120537Z
UID:26271-1795564800-1795651199@www.cma.cz
SUMMARY:Konference manažerů roku
DESCRIPTION:Projekt České manažerské asociace a Newton University\, nabízející členům jedinečnou příležitost setkat se a debatovat s výraznými osobnostmi manažerského světa. \nVíce informací bude upřesněno.
URL:https://www.cma.cz/akce/konference-manazeru-roku/
LOCATION:NEWTON University\, 5. května 1640/65\, Praha 4
CATEGORIES:Akce ČMA
ATTACH;FMTTYPE=image/jpeg:https://www.cma.cz/wp-content/uploads/2025/09/drzeni_loga_mr_s.jpg
END:VEVENT
END:VCALENDAR