BEGIN:VCALENDAR
VERSION:2.0
PRODID:-//ČESKÁ MANAŽERSKÁ ASOCIACE - ECPv6.15.15//NONSGML v1.0//EN
CALSCALE:GREGORIAN
METHOD:PUBLISH
X-ORIGINAL-URL:https://www.cma.cz
X-WR-CALDESC:Akce na ČESKÁ MANAŽERSKÁ ASOCIACE
REFRESH-INTERVAL;VALUE=DURATION:PT1H
X-Robots-Tag:noindex
X-PUBLISHED-TTL:PT1H
BEGIN:VTIMEZONE
TZID:Europe/Prague
BEGIN:DAYLIGHT
TZOFFSETFROM:+0100
TZOFFSETTO:+0200
TZNAME:CEST
DTSTART:20250330T010000
END:DAYLIGHT
BEGIN:STANDARD
TZOFFSETFROM:+0200
TZOFFSETTO:+0100
TZNAME:CET
DTSTART:20251026T010000
END:STANDARD
BEGIN:DAYLIGHT
TZOFFSETFROM:+0100
TZOFFSETTO:+0200
TZNAME:CEST
DTSTART:20260329T010000
END:DAYLIGHT
BEGIN:STANDARD
TZOFFSETFROM:+0200
TZOFFSETTO:+0100
TZNAME:CET
DTSTART:20261025T010000
END:STANDARD
BEGIN:DAYLIGHT
TZOFFSETFROM:+0100
TZOFFSETTO:+0200
TZNAME:CEST
DTSTART:20270328T010000
END:DAYLIGHT
BEGIN:STANDARD
TZOFFSETFROM:+0200
TZOFFSETTO:+0100
TZNAME:CET
DTSTART:20271031T010000
END:STANDARD
END:VTIMEZONE
BEGIN:VEVENT
DTSTART;TZID=Europe/Prague:20260413T100000
DTEND;TZID=Europe/Prague:20260413T123000
DTSTAMP:20260420T232112
CREATED:20260218T075327Z
LAST-MODIFIED:20260410T094622Z
UID:25979-1776074400-1776083400@www.cma.cz
SUMMARY:Konference manažerů roku – Ambis
DESCRIPTION:Přijďte se inspirovat příběhy úspěšných manažerů\, sdílet cenné znalosti a diskutovat s odborníky z různých odvětví. Tato exkluzivní akce Vám umožní setkat se s finalisty ocenění Manažer roku a získat inspiraci od nejlepších z nejlepších! \n1. Panel: Muži\n\nMichal Nešetřil\, CEO PROTECTON\, finalista MR 2024\nMikuláš Pýcha\, ředitel Odboru strategického řízení EGAP\nMichal Karcol\, jednatel XXXLutz\, vítěz kategorie Mladý manažer do 35 let v MR 2024\n\nModeruje: Renata Skýpalová\, vedoucí katedry managementu a lidských zdrojů \n2. Panel: Ženy\n\nBeáta Petrušová\, senior advisor to CFO Generali CEE Holding\, vítězka kategorie CFO v MR 2024\nHana Dluhošová\, Škoda Transportation\, Region CZ/SK\nLucie Landová\, Linet\, vítězka v kategorii: Manažer v udržitelném rozvoji\n\nModeruje: Olga Girstlová\, prezidentka ČMA \n  \nTěšíme se na Vás\, prosíme jen o potvrzení účasti na e-mail: barvova@cma.cz
URL:https://www.cma.cz/akce/konference-manazeru-roku-ambis/
LOCATION:AMBIS vysoká škola\, a.s.\, Šujanovo náměstí 356/1\, Brno\, 60200
CATEGORIES:Akce ČMA
ATTACH;FMTTYPE=image/jpeg:https://www.cma.cz/wp-content/uploads/2026/02/managers-meeting.jpg
END:VEVENT
END:VCALENDAR