BEGIN:VCALENDAR
VERSION:2.0
PRODID:-//ČESKÁ MANAŽERSKÁ ASOCIACE - ECPv6.15.15//NONSGML v1.0//EN
CALSCALE:GREGORIAN
METHOD:PUBLISH
X-ORIGINAL-URL:https://www.cma.cz
X-WR-CALDESC:Akce na ČESKÁ MANAŽERSKÁ ASOCIACE
REFRESH-INTERVAL;VALUE=DURATION:PT1H
X-Robots-Tag:noindex
X-PUBLISHED-TTL:PT1H
BEGIN:VTIMEZONE
TZID:Europe/Prague
BEGIN:DAYLIGHT
TZOFFSETFROM:+0100
TZOFFSETTO:+0200
TZNAME:CEST
DTSTART:20250330T010000
END:DAYLIGHT
BEGIN:STANDARD
TZOFFSETFROM:+0200
TZOFFSETTO:+0100
TZNAME:CET
DTSTART:20251026T010000
END:STANDARD
BEGIN:DAYLIGHT
TZOFFSETFROM:+0100
TZOFFSETTO:+0200
TZNAME:CEST
DTSTART:20260329T010000
END:DAYLIGHT
BEGIN:STANDARD
TZOFFSETFROM:+0200
TZOFFSETTO:+0100
TZNAME:CET
DTSTART:20261025T010000
END:STANDARD
BEGIN:DAYLIGHT
TZOFFSETFROM:+0100
TZOFFSETTO:+0200
TZNAME:CEST
DTSTART:20270328T010000
END:DAYLIGHT
BEGIN:STANDARD
TZOFFSETFROM:+0200
TZOFFSETTO:+0100
TZNAME:CET
DTSTART:20271031T010000
END:STANDARD
END:VTIMEZONE
BEGIN:VEVENT
DTSTART;TZID=Europe/Prague:20260409T170000
DTEND;TZID=Europe/Prague:20260409T180000
DTSTAMP:20260420T232150
CREATED:20260226T174941Z
LAST-MODIFIED:20260313T082824Z
UID:26077-1775754000-1775757600@www.cma.cz
SUMMARY:Povzbudivé povídání o výkonnosti a vyčerpání
DESCRIPTION:Jak je to skutečně s naší leností?\nJak sami sebe podkopáváme díky mýtům o soustředění a flow\nNenápadné zdroje mentálního vyčerpání\nPříjemná zjištění o tom\, jak snadno můžeme získat víc za méně úsilí\n\nPartnerem akce je výzkumná agentura Ipsos. \n  \nIng. Hanka Ondrušková \nOd roku 2006 působí jako lektorka komunikace a osobního rozvoje. Její další témata jsou typologie osobnosti\, efektivita\, zvládání stresu a prezentační dovednosti. \nPořádá kurzy a přednášky pro firmy i soukromé akce. Řadu let vyučovala komunikaci na VŠE v Praze\, spolupracuje se státními institucemi\, bankami i nadnárodními firmami. Za dvacet let v oboru prošlo jejími kurzy přes 20 000 lidí. \nNa YouTube jste mohli vidět její přednášky\, z nichž nejúspěšnější jsou o typologii osobnosti s více než půl milionem zhlédnutí. \n  \nPříchod a networking od 16:30\, diskuze a networking i po skončení programu. \nTěšíme se na Vás\, prosíme jen o potvrzení účasti na e-mail: barvova@cma.cz \nPozvánka (PDF)
URL:https://www.cma.cz/akce/povzbudive-povidani-o-vykonnosti-a-vycerpani/
LOCATION:Konferenční prostory výzkumné firmy Ipsos\, Slovanský dům\, Na Příkopě 22\, Praha 1 (vchod E je z vnitrobloku)
CATEGORIES:Akce ČMA
ATTACH;FMTTYPE=image/jpeg:https://www.cma.cz/wp-content/uploads/2026/02/hana-ondruskova.jpg
END:VEVENT
END:VCALENDAR