BEGIN:VCALENDAR
VERSION:2.0
PRODID:-//ČESKÁ MANAŽERSKÁ ASOCIACE - ECPv6.15.15//NONSGML v1.0//EN
CALSCALE:GREGORIAN
METHOD:PUBLISH
X-WR-CALNAME:ČESKÁ MANAŽERSKÁ ASOCIACE
X-ORIGINAL-URL:https://www.cma.cz
X-WR-CALDESC:Akce na ČESKÁ MANAŽERSKÁ ASOCIACE
REFRESH-INTERVAL;VALUE=DURATION:PT1H
X-Robots-Tag:noindex
X-PUBLISHED-TTL:PT1H
BEGIN:VTIMEZONE
TZID:Europe/Prague
BEGIN:DAYLIGHT
TZOFFSETFROM:+0100
TZOFFSETTO:+0200
TZNAME:CEST
DTSTART:20240331T010000
END:DAYLIGHT
BEGIN:STANDARD
TZOFFSETFROM:+0200
TZOFFSETTO:+0100
TZNAME:CET
DTSTART:20241027T010000
END:STANDARD
BEGIN:DAYLIGHT
TZOFFSETFROM:+0100
TZOFFSETTO:+0200
TZNAME:CEST
DTSTART:20250330T010000
END:DAYLIGHT
BEGIN:STANDARD
TZOFFSETFROM:+0200
TZOFFSETTO:+0100
TZNAME:CET
DTSTART:20251026T010000
END:STANDARD
BEGIN:DAYLIGHT
TZOFFSETFROM:+0100
TZOFFSETTO:+0200
TZNAME:CEST
DTSTART:20260329T010000
END:DAYLIGHT
BEGIN:STANDARD
TZOFFSETFROM:+0200
TZOFFSETTO:+0100
TZNAME:CET
DTSTART:20261025T010000
END:STANDARD
END:VTIMEZONE
BEGIN:VEVENT
DTSTART;TZID=Europe/Prague:20250916T130000
DTEND;TZID=Europe/Prague:20250916T130000
DTSTAMP:20260423T103516
CREATED:20250823T083513Z
LAST-MODIFIED:20250902T214136Z
UID:24857-1758027600-1758027600@www.cma.cz
SUMMARY:Konference Ekologické trendy a prognózy
DESCRIPTION:Na půdě Fakulty dopravní proběhne II. ročník konference Ekologické trendy a prognózy \nFakulta dopravní ČVUT v Praze pořádá ve spolupráci s Českou manažerskou asociací a Spolkem pro vědu a výzkum konferenci Ekologické trendy a prognózy. Ta se bude konat 16.  9. 2025 od 13.00 hodin na půdě Fakulty dopravní v budově Horská\, místnost B005. \nV případě\, že máte zájem zaslat na konferenci zajímavé příspěvky k tomuto tématu\, zasílejte je na e-mail pana Bohumíra Štědroně (Stedron@seznam.cz)\, který je zároveň kontaktní osobou pro tuto akci. \nProgram:\n\nzahájení konference\nSvítek Miroslav: Ekologie a umělá inteligence\n\nÚvodní příspěvky:\n\nPotůček Martin: Možnosti prevence globálních ohrožení na národní a evropské úrovni\nKlein Vít\, Petrů Naděžda: Budoucnost obnovitelných zdrojů energie v Česku\, strategické predikce do roku 2040\nWaisová Šárka\, Cabada Ladislav: Možnosti a limity prognózování: Trendy a perspektivy rozvoje vodíkové mobility\nKostrec Kostrec: Analýza vplyvu ekológie na bezpečnosť ľudstva pomocou umelej inteligencie.\nMládek Jan: Odkud a kam jde česká energetika (1990-2050)?\nHarnach Viktor: Ekologická a ekonomická udržitelnost zemědělských pozemků\nKremlík Vladimír: Systémová modulární architektura funkcí železničních stanic zapojených do systému vysokorychlostních železnic (VRT) se zaměřením na jejich udržitelnost a odolnost.\nŠulc Vladimír: Drony a umělá intelligence mezi válkou a civilním využití\nČumpelík Pavel: Sklářské inovace pro udržitelné soužití biologických a elektronických entit\nKalášek Dušan: Budoucnost kritické infrastruktury mezi technologickými inovacemi a ekologickými prognózami\nMiltner Marek: „Artificial Intelligence as a Necessary Catalyst of Sustainable Transformation of Power Systems“\nŠtědroň Bohumír\, Štědroň Jakub: Nevyřešené problémy ekologie a umělé inteligence\n\nRegistrace:\nbez registrace \nVstup:\nzdarma \nOrganizátor:\nFakulta dopravní ČVUT v Praze\, Česká manažerská asociace a Spolek pro vědu a výzkum
URL:https://www.cma.cz/akce/konference-ekologicke-trendy-a-prognozy/
LOCATION:Fakulta dopravní ČVUT (místnost B005)\, Horská 3\, Praha 2
CATEGORIES:Akce členů,Akce ČMA
ATTACH;FMTTYPE=image/jpeg:https://www.cma.cz/wp-content/uploads/2024/08/ekologie2.jpg
END:VEVENT
END:VCALENDAR